BEGIN:VCALENDAR
VERSION:2.0
PRODID:-//The Yard Patio Bar Garden - ECPv6.15.20//NONSGML v1.0//EN
CALSCALE:GREGORIAN
METHOD:PUBLISH
X-ORIGINAL-URL:https://theyard915.com
X-WR-CALDESC:Events for The Yard Patio Bar Garden
REFRESH-INTERVAL;VALUE=DURATION:PT1H
X-Robots-Tag:noindex
X-PUBLISHED-TTL:PT1H
BEGIN:VTIMEZONE
TZID:America/Denver
BEGIN:DAYLIGHT
TZOFFSETFROM:-0700
TZOFFSETTO:-0600
TZNAME:MDT
DTSTART:20230312T090000
END:DAYLIGHT
BEGIN:STANDARD
TZOFFSETFROM:-0600
TZOFFSETTO:-0700
TZNAME:MST
DTSTART:20231105T080000
END:STANDARD
BEGIN:DAYLIGHT
TZOFFSETFROM:-0700
TZOFFSETTO:-0600
TZNAME:MDT
DTSTART:20240310T090000
END:DAYLIGHT
BEGIN:STANDARD
TZOFFSETFROM:-0600
TZOFFSETTO:-0700
TZNAME:MST
DTSTART:20241103T080000
END:STANDARD
BEGIN:DAYLIGHT
TZOFFSETFROM:-0700
TZOFFSETTO:-0600
TZNAME:MDT
DTSTART:20250309T090000
END:DAYLIGHT
BEGIN:STANDARD
TZOFFSETFROM:-0600
TZOFFSETTO:-0700
TZNAME:MST
DTSTART:20251102T080000
END:STANDARD
END:VTIMEZONE
BEGIN:VEVENT
DTSTART;TZID=America/Denver:20241004T200000
DTEND;TZID=America/Denver:20241004T235900
DTSTAMP:20260420T084110
CREATED:20240801T191052Z
LAST-MODIFIED:20250702T201205Z
UID:10000069-1728072000-1728086340@theyard915.com
SUMMARY:Family Karaoke Night
DESCRIPTION:What better way to spend time with the family than with a little Family Karaoke. Kids are always welcomed to join. We have weekly drink specials\, food features and more. Make sure to follow us on social media   Facebook
URL:https://theyard915.com/event/family-karaoke-night/2024-10-04/
LOCATION:The Yard Patio Beer Garden\, 14261 Montana Ave\, El Paso TX\, TX\, 79938\, United States
END:VEVENT
BEGIN:VEVENT
DTSTART;TZID=America/Denver:20241005T200000
DTEND;TZID=America/Denver:20241005T233000
DTSTAMP:20260420T084110
CREATED:20240911T224605Z
LAST-MODIFIED:20250311T235311Z
UID:10000651-1728158400-1728171000@theyard915.com
SUMMARY:Poker Night in the Whiskey Bar
DESCRIPTION:Play some Texas Hold’em and enjoy some Whiskey. $3 Select Drafts\, $4 Select Whiskeys and $1.50 Sliders. This is a 21+ game held weekly.
URL:https://theyard915.com/event/poker-night-is-the-whiskey-bar/2024-10-05/
LOCATION:The Yard Patio Beer Garden\, 14261 Montana Ave\, El Paso TX\, TX\, 79938\, United States
ATTACH;FMTTYPE=image/jpeg:https://theyard915.com/wp-content/uploads/2024/09/Poker-night-event-page.jpg
END:VEVENT
BEGIN:VEVENT
DTSTART;TZID=America/Denver:20241011T200000
DTEND;TZID=America/Denver:20241011T235900
DTSTAMP:20260420T084110
CREATED:20240801T191052Z
LAST-MODIFIED:20250702T201205Z
UID:10000070-1728676800-1728691140@theyard915.com
SUMMARY:Family Karaoke Night
DESCRIPTION:What better way to spend time with the family than with a little Family Karaoke. Kids are always welcomed to join. We have weekly drink specials\, food features and more. Make sure to follow us on social media   Facebook
URL:https://theyard915.com/event/family-karaoke-night/2024-10-11/
LOCATION:The Yard Patio Beer Garden\, 14261 Montana Ave\, El Paso TX\, TX\, 79938\, United States
END:VEVENT
BEGIN:VEVENT
DTSTART;TZID=America/Denver:20241012T200000
DTEND;TZID=America/Denver:20241012T233000
DTSTAMP:20260420T084110
CREATED:20240911T224605Z
LAST-MODIFIED:20250311T235311Z
UID:10000652-1728763200-1728775800@theyard915.com
SUMMARY:Poker Night in the Whiskey Bar
DESCRIPTION:Play some Texas Hold’em and enjoy some Whiskey. $3 Select Drafts\, $4 Select Whiskeys and $1.50 Sliders. This is a 21+ game held weekly.
URL:https://theyard915.com/event/poker-night-is-the-whiskey-bar/2024-10-12/
LOCATION:The Yard Patio Beer Garden\, 14261 Montana Ave\, El Paso TX\, TX\, 79938\, United States
ATTACH;FMTTYPE=image/jpeg:https://theyard915.com/wp-content/uploads/2024/09/Poker-night-event-page.jpg
END:VEVENT
BEGIN:VEVENT
DTSTART;TZID=America/Denver:20241013T150000
DTEND;TZID=America/Denver:20241013T180000
DTSTAMP:20260420T084110
CREATED:20240909T160212Z
LAST-MODIFIED:20240909T161156Z
UID:10000582-1728831600-1728842400@theyard915.com
SUMMARY:Howl-O-Ween Costume Contest and Vendors Market
DESCRIPTION:Join us for our 2nd Annual Howl-O-Ween Bash with Groomology Pet Salon and Spa. Get your furbaby in on the Halloween fun with Tricks-For-Treats\, costume contest with prizes\, raffles and of course support our local small businesses with our vendor market. This is family friendly event.
URL:https://theyard915.com/event/howl-o-ween-dog-costume-contest-and-vendors-market/
LOCATION:TX
END:VEVENT
BEGIN:VEVENT
DTSTART;TZID=America/Denver:20241018T200000
DTEND;TZID=America/Denver:20241018T235900
DTSTAMP:20260420T084110
CREATED:20240801T191052Z
LAST-MODIFIED:20250702T201205Z
UID:10000071-1729281600-1729295940@theyard915.com
SUMMARY:Family Karaoke Night
DESCRIPTION:What better way to spend time with the family than with a little Family Karaoke. Kids are always welcomed to join. We have weekly drink specials\, food features and more. Make sure to follow us on social media   Facebook
URL:https://theyard915.com/event/family-karaoke-night/2024-10-18/
LOCATION:The Yard Patio Beer Garden\, 14261 Montana Ave\, El Paso TX\, TX\, 79938\, United States
END:VEVENT
BEGIN:VEVENT
DTSTART;TZID=America/Denver:20241019T200000
DTEND;TZID=America/Denver:20241019T233000
DTSTAMP:20260420T084110
CREATED:20240911T224605Z
LAST-MODIFIED:20250311T235311Z
UID:10000653-1729368000-1729380600@theyard915.com
SUMMARY:Poker Night in the Whiskey Bar
DESCRIPTION:Play some Texas Hold’em and enjoy some Whiskey. $3 Select Drafts\, $4 Select Whiskeys and $1.50 Sliders. This is a 21+ game held weekly.
URL:https://theyard915.com/event/poker-night-is-the-whiskey-bar/2024-10-19/
LOCATION:The Yard Patio Beer Garden\, 14261 Montana Ave\, El Paso TX\, TX\, 79938\, United States
ATTACH;FMTTYPE=image/jpeg:https://theyard915.com/wp-content/uploads/2024/09/Poker-night-event-page.jpg
END:VEVENT
BEGIN:VEVENT
DTSTART;TZID=America/Denver:20241020T120000
DTEND;TZID=America/Denver:20241020T170000
DTSTAMP:20260420T084110
CREATED:20240909T170549Z
LAST-MODIFIED:20240909T170549Z
UID:10000585-1729425600-1729443600@theyard915.com
SUMMARY:Soldier & Veterans Suicide Awareness Fundraiser and Vendor Market
DESCRIPTION:Live Music\, Raffles and drink specials all for a great cause. Join the Airborne MC for this fundraiser event.
URL:https://theyard915.com/event/soldier-veterans-suicide-awareness-fundraiser-and-vendor-market/
LOCATION:The Yard Patio Beer Garden\, 14261 Montana Ave\, El Paso TX\, TX\, 79938\, United States
END:VEVENT
BEGIN:VEVENT
DTSTART;TZID=America/Denver:20241025T200000
DTEND;TZID=America/Denver:20241025T235900
DTSTAMP:20260420T084110
CREATED:20240801T191052Z
LAST-MODIFIED:20250702T201205Z
UID:10000072-1729886400-1729900740@theyard915.com
SUMMARY:Family Karaoke Night
DESCRIPTION:What better way to spend time with the family than with a little Family Karaoke. Kids are always welcomed to join. We have weekly drink specials\, food features and more. Make sure to follow us on social media   Facebook
URL:https://theyard915.com/event/family-karaoke-night/2024-10-25/
LOCATION:The Yard Patio Beer Garden\, 14261 Montana Ave\, El Paso TX\, TX\, 79938\, United States
END:VEVENT
BEGIN:VEVENT
DTSTART;TZID=America/Denver:20241026T200000
DTEND;TZID=America/Denver:20241026T233000
DTSTAMP:20260420T084110
CREATED:20240911T224605Z
LAST-MODIFIED:20250311T235311Z
UID:10000654-1729972800-1729985400@theyard915.com
SUMMARY:Poker Night in the Whiskey Bar
DESCRIPTION:Play some Texas Hold’em and enjoy some Whiskey. $3 Select Drafts\, $4 Select Whiskeys and $1.50 Sliders. This is a 21+ game held weekly.
URL:https://theyard915.com/event/poker-night-is-the-whiskey-bar/2024-10-26/
LOCATION:The Yard Patio Beer Garden\, 14261 Montana Ave\, El Paso TX\, TX\, 79938\, United States
ATTACH;FMTTYPE=image/jpeg:https://theyard915.com/wp-content/uploads/2024/09/Poker-night-event-page.jpg
END:VEVENT
BEGIN:VEVENT
DTSTART;TZID=America/Denver:20241027T110000
DTEND;TZID=America/Denver:20241027T180000
DTSTAMP:20260420T084110
CREATED:20240909T161634Z
LAST-MODIFIED:20240909T161634Z
UID:10000583-1730026800-1730052000@theyard915.com
SUMMARY:Breast Cancer Bike Run Fundraiser & Vendor Market w/ Live Music
DESCRIPTION:It’s a Bike Event for a Cause. Join us for a vendor market and help us raise money for Breast Cancer Research. Vendors\, Bands\, Raffles and more. Registration fee is $15 and includes lunch. Contact us to be a vendor at (915)841-6379.
URL:https://theyard915.com/event/breast-cancer-bike-run-fundraiser-vendor-market-w-live-music/
LOCATION:The Yard Patio Beer Garden\, 14261 Montana Ave\, El Paso TX\, TX\, 79938\, United States
END:VEVENT
END:VCALENDAR