BEGIN:VCALENDAR
VERSION:2.0
PRODID:-//The Yard Patio Bar Garden - ECPv6.15.20//NONSGML v1.0//EN
CALSCALE:GREGORIAN
METHOD:PUBLISH
X-WR-CALNAME:The Yard Patio Bar Garden
X-ORIGINAL-URL:https://theyard915.com
X-WR-CALDESC:Events for The Yard Patio Bar Garden
REFRESH-INTERVAL;VALUE=DURATION:PT1H
X-Robots-Tag:noindex
X-PUBLISHED-TTL:PT1H
BEGIN:VTIMEZONE
TZID:America/Denver
BEGIN:DAYLIGHT
TZOFFSETFROM:-0700
TZOFFSETTO:-0600
TZNAME:MDT
DTSTART:20240310T090000
END:DAYLIGHT
BEGIN:STANDARD
TZOFFSETFROM:-0600
TZOFFSETTO:-0700
TZNAME:MST
DTSTART:20241103T080000
END:STANDARD
BEGIN:DAYLIGHT
TZOFFSETFROM:-0700
TZOFFSETTO:-0600
TZNAME:MDT
DTSTART:20250309T090000
END:DAYLIGHT
BEGIN:STANDARD
TZOFFSETFROM:-0600
TZOFFSETTO:-0700
TZNAME:MST
DTSTART:20251102T080000
END:STANDARD
BEGIN:DAYLIGHT
TZOFFSETFROM:-0700
TZOFFSETTO:-0600
TZNAME:MDT
DTSTART:20260308T090000
END:DAYLIGHT
BEGIN:STANDARD
TZOFFSETFROM:-0600
TZOFFSETTO:-0700
TZNAME:MST
DTSTART:20261101T080000
END:STANDARD
END:VTIMEZONE
BEGIN:VEVENT
DTSTART;TZID=America/Denver:20250425T200000
DTEND;TZID=America/Denver:20250425T235900
DTSTAMP:20260420T144331
CREATED:20240801T191052Z
LAST-MODIFIED:20250702T201205Z
UID:10000098-1745611200-1745625540@theyard915.com
SUMMARY:Family Karaoke Night
DESCRIPTION:What better way to spend time with the family than with a little Family Karaoke. Kids are always welcomed to join. We have weekly drink specials\, food features and more. Make sure to follow us on social media   Facebook
URL:https://theyard915.com/event/family-karaoke-night/2025-04-25/
LOCATION:The Yard Patio Beer Garden\, 14261 Montana Ave\, El Paso TX\, TX\, 79938\, United States
END:VEVENT
BEGIN:VEVENT
DTSTART;TZID=America/Denver:20250426T200000
DTEND;TZID=America/Denver:20250426T233000
DTSTAMP:20260420T144331
CREATED:20240911T224605Z
LAST-MODIFIED:20250311T235311Z
UID:10000680-1745697600-1745710200@theyard915.com
SUMMARY:Poker Night in the Whiskey Bar
DESCRIPTION:Play some Texas Hold’em and enjoy some Whiskey. $3 Select Drafts\, $4 Select Whiskeys and $1.50 Sliders. This is a 21+ game held weekly.
URL:https://theyard915.com/event/poker-night-is-the-whiskey-bar/2025-04-26/
LOCATION:The Yard Patio Beer Garden\, 14261 Montana Ave\, El Paso TX\, TX\, 79938\, United States
ATTACH;FMTTYPE=image/jpeg:https://theyard915.com/wp-content/uploads/2024/09/Poker-night-event-page.jpg
END:VEVENT
BEGIN:VEVENT
DTSTART;TZID=America/Denver:20250502T200000
DTEND;TZID=America/Denver:20250502T235900
DTSTAMP:20260420T144331
CREATED:20240801T191052Z
LAST-MODIFIED:20250702T201205Z
UID:10000099-1746216000-1746230340@theyard915.com
SUMMARY:Family Karaoke Night
DESCRIPTION:What better way to spend time with the family than with a little Family Karaoke. Kids are always welcomed to join. We have weekly drink specials\, food features and more. Make sure to follow us on social media   Facebook
URL:https://theyard915.com/event/family-karaoke-night/2025-05-02/
LOCATION:The Yard Patio Beer Garden\, 14261 Montana Ave\, El Paso TX\, TX\, 79938\, United States
END:VEVENT
BEGIN:VEVENT
DTSTART;TZID=America/Denver:20250503T200000
DTEND;TZID=America/Denver:20250503T233000
DTSTAMP:20260420T144331
CREATED:20240911T224605Z
LAST-MODIFIED:20250311T235311Z
UID:10000681-1746302400-1746315000@theyard915.com
SUMMARY:Poker Night in the Whiskey Bar
DESCRIPTION:Play some Texas Hold’em and enjoy some Whiskey. $3 Select Drafts\, $4 Select Whiskeys and $1.50 Sliders. This is a 21+ game held weekly.
URL:https://theyard915.com/event/poker-night-is-the-whiskey-bar/2025-05-03/
LOCATION:The Yard Patio Beer Garden\, 14261 Montana Ave\, El Paso TX\, TX\, 79938\, United States
ATTACH;FMTTYPE=image/jpeg:https://theyard915.com/wp-content/uploads/2024/09/Poker-night-event-page.jpg
END:VEVENT
BEGIN:VEVENT
DTSTART;TZID=America/Denver:20250509T200000
DTEND;TZID=America/Denver:20250509T235900
DTSTAMP:20260420T144331
CREATED:20240801T191052Z
LAST-MODIFIED:20250702T201205Z
UID:10000100-1746820800-1746835140@theyard915.com
SUMMARY:Family Karaoke Night
DESCRIPTION:What better way to spend time with the family than with a little Family Karaoke. Kids are always welcomed to join. We have weekly drink specials\, food features and more. Make sure to follow us on social media   Facebook
URL:https://theyard915.com/event/family-karaoke-night/2025-05-09/
LOCATION:The Yard Patio Beer Garden\, 14261 Montana Ave\, El Paso TX\, TX\, 79938\, United States
END:VEVENT
BEGIN:VEVENT
DTSTART;TZID=America/Denver:20250510T200000
DTEND;TZID=America/Denver:20250510T233000
DTSTAMP:20260420T144331
CREATED:20240911T224605Z
LAST-MODIFIED:20250311T235311Z
UID:10000682-1746907200-1746919800@theyard915.com
SUMMARY:Poker Night in the Whiskey Bar
DESCRIPTION:Play some Texas Hold’em and enjoy some Whiskey. $3 Select Drafts\, $4 Select Whiskeys and $1.50 Sliders. This is a 21+ game held weekly.
URL:https://theyard915.com/event/poker-night-is-the-whiskey-bar/2025-05-10/
LOCATION:The Yard Patio Beer Garden\, 14261 Montana Ave\, El Paso TX\, TX\, 79938\, United States
ATTACH;FMTTYPE=image/jpeg:https://theyard915.com/wp-content/uploads/2024/09/Poker-night-event-page.jpg
END:VEVENT
BEGIN:VEVENT
DTSTART;TZID=America/Denver:20250516T200000
DTEND;TZID=America/Denver:20250516T235900
DTSTAMP:20260420T144331
CREATED:20240801T191052Z
LAST-MODIFIED:20250702T201205Z
UID:10000101-1747425600-1747439940@theyard915.com
SUMMARY:Family Karaoke Night
DESCRIPTION:What better way to spend time with the family than with a little Family Karaoke. Kids are always welcomed to join. We have weekly drink specials\, food features and more. Make sure to follow us on social media   Facebook
URL:https://theyard915.com/event/family-karaoke-night/2025-05-16/
LOCATION:The Yard Patio Beer Garden\, 14261 Montana Ave\, El Paso TX\, TX\, 79938\, United States
END:VEVENT
BEGIN:VEVENT
DTSTART;TZID=America/Denver:20250517T200000
DTEND;TZID=America/Denver:20250517T233000
DTSTAMP:20260420T144331
CREATED:20240911T224605Z
LAST-MODIFIED:20250311T235311Z
UID:10000683-1747512000-1747524600@theyard915.com
SUMMARY:Poker Night in the Whiskey Bar
DESCRIPTION:Play some Texas Hold’em and enjoy some Whiskey. $3 Select Drafts\, $4 Select Whiskeys and $1.50 Sliders. This is a 21+ game held weekly.
URL:https://theyard915.com/event/poker-night-is-the-whiskey-bar/2025-05-17/
LOCATION:The Yard Patio Beer Garden\, 14261 Montana Ave\, El Paso TX\, TX\, 79938\, United States
ATTACH;FMTTYPE=image/jpeg:https://theyard915.com/wp-content/uploads/2024/09/Poker-night-event-page.jpg
END:VEVENT
BEGIN:VEVENT
DTSTART;TZID=America/Denver:20250523T200000
DTEND;TZID=America/Denver:20250523T235900
DTSTAMP:20260420T144331
CREATED:20240801T191052Z
LAST-MODIFIED:20250702T201205Z
UID:10000102-1748030400-1748044740@theyard915.com
SUMMARY:Family Karaoke Night
DESCRIPTION:What better way to spend time with the family than with a little Family Karaoke. Kids are always welcomed to join. We have weekly drink specials\, food features and more. Make sure to follow us on social media   Facebook
URL:https://theyard915.com/event/family-karaoke-night/2025-05-23/
LOCATION:The Yard Patio Beer Garden\, 14261 Montana Ave\, El Paso TX\, TX\, 79938\, United States
END:VEVENT
BEGIN:VEVENT
DTSTART;TZID=America/Denver:20250524T200000
DTEND;TZID=America/Denver:20250524T233000
DTSTAMP:20260420T144331
CREATED:20240911T224605Z
LAST-MODIFIED:20250311T235311Z
UID:10000684-1748116800-1748129400@theyard915.com
SUMMARY:Poker Night in the Whiskey Bar
DESCRIPTION:Play some Texas Hold’em and enjoy some Whiskey. $3 Select Drafts\, $4 Select Whiskeys and $1.50 Sliders. This is a 21+ game held weekly.
URL:https://theyard915.com/event/poker-night-is-the-whiskey-bar/2025-05-24/
LOCATION:The Yard Patio Beer Garden\, 14261 Montana Ave\, El Paso TX\, TX\, 79938\, United States
ATTACH;FMTTYPE=image/jpeg:https://theyard915.com/wp-content/uploads/2024/09/Poker-night-event-page.jpg
END:VEVENT
BEGIN:VEVENT
DTSTART;TZID=America/Denver:20250530T200000
DTEND;TZID=America/Denver:20250530T235900
DTSTAMP:20260420T144331
CREATED:20240801T191052Z
LAST-MODIFIED:20250702T201205Z
UID:10000103-1748635200-1748649540@theyard915.com
SUMMARY:Family Karaoke Night
DESCRIPTION:What better way to spend time with the family than with a little Family Karaoke. Kids are always welcomed to join. We have weekly drink specials\, food features and more. Make sure to follow us on social media   Facebook
URL:https://theyard915.com/event/family-karaoke-night/2025-05-30/
LOCATION:The Yard Patio Beer Garden\, 14261 Montana Ave\, El Paso TX\, TX\, 79938\, United States
END:VEVENT
BEGIN:VEVENT
DTSTART;TZID=America/Denver:20250531T200000
DTEND;TZID=America/Denver:20250531T233000
DTSTAMP:20260420T144331
CREATED:20240911T224605Z
LAST-MODIFIED:20250311T235311Z
UID:10000685-1748721600-1748734200@theyard915.com
SUMMARY:Poker Night in the Whiskey Bar
DESCRIPTION:Play some Texas Hold’em and enjoy some Whiskey. $3 Select Drafts\, $4 Select Whiskeys and $1.50 Sliders. This is a 21+ game held weekly.
URL:https://theyard915.com/event/poker-night-is-the-whiskey-bar/2025-05-31/
LOCATION:The Yard Patio Beer Garden\, 14261 Montana Ave\, El Paso TX\, TX\, 79938\, United States
ATTACH;FMTTYPE=image/jpeg:https://theyard915.com/wp-content/uploads/2024/09/Poker-night-event-page.jpg
END:VEVENT
BEGIN:VEVENT
DTSTART;TZID=America/Denver:20250606T200000
DTEND;TZID=America/Denver:20250606T235900
DTSTAMP:20260420T144331
CREATED:20240801T191052Z
LAST-MODIFIED:20250702T201205Z
UID:10000104-1749240000-1749254340@theyard915.com
SUMMARY:Family Karaoke Night
DESCRIPTION:What better way to spend time with the family than with a little Family Karaoke. Kids are always welcomed to join. We have weekly drink specials\, food features and more. Make sure to follow us on social media   Facebook
URL:https://theyard915.com/event/family-karaoke-night/2025-06-06/
LOCATION:The Yard Patio Beer Garden\, 14261 Montana Ave\, El Paso TX\, TX\, 79938\, United States
END:VEVENT
BEGIN:VEVENT
DTSTART;TZID=America/Denver:20250607T200000
DTEND;TZID=America/Denver:20250607T233000
DTSTAMP:20260420T144331
CREATED:20240911T224605Z
LAST-MODIFIED:20250311T235311Z
UID:10000686-1749326400-1749339000@theyard915.com
SUMMARY:Poker Night in the Whiskey Bar
DESCRIPTION:Play some Texas Hold’em and enjoy some Whiskey. $3 Select Drafts\, $4 Select Whiskeys and $1.50 Sliders. This is a 21+ game held weekly.
URL:https://theyard915.com/event/poker-night-is-the-whiskey-bar/2025-06-07/
LOCATION:The Yard Patio Beer Garden\, 14261 Montana Ave\, El Paso TX\, TX\, 79938\, United States
ATTACH;FMTTYPE=image/jpeg:https://theyard915.com/wp-content/uploads/2024/09/Poker-night-event-page.jpg
END:VEVENT
BEGIN:VEVENT
DTSTART;TZID=America/Denver:20250613T200000
DTEND;TZID=America/Denver:20250613T235900
DTSTAMP:20260420T144331
CREATED:20240801T191052Z
LAST-MODIFIED:20250702T201205Z
UID:10000105-1749844800-1749859140@theyard915.com
SUMMARY:Family Karaoke Night
DESCRIPTION:What better way to spend time with the family than with a little Family Karaoke. Kids are always welcomed to join. We have weekly drink specials\, food features and more. Make sure to follow us on social media   Facebook
URL:https://theyard915.com/event/family-karaoke-night/2025-06-13/
LOCATION:The Yard Patio Beer Garden\, 14261 Montana Ave\, El Paso TX\, TX\, 79938\, United States
END:VEVENT
BEGIN:VEVENT
DTSTART;TZID=America/Denver:20250614T200000
DTEND;TZID=America/Denver:20250614T233000
DTSTAMP:20260420T144331
CREATED:20240911T224605Z
LAST-MODIFIED:20250311T235311Z
UID:10000687-1749931200-1749943800@theyard915.com
SUMMARY:Poker Night in the Whiskey Bar
DESCRIPTION:Play some Texas Hold’em and enjoy some Whiskey. $3 Select Drafts\, $4 Select Whiskeys and $1.50 Sliders. This is a 21+ game held weekly.
URL:https://theyard915.com/event/poker-night-is-the-whiskey-bar/2025-06-14/
LOCATION:The Yard Patio Beer Garden\, 14261 Montana Ave\, El Paso TX\, TX\, 79938\, United States
ATTACH;FMTTYPE=image/jpeg:https://theyard915.com/wp-content/uploads/2024/09/Poker-night-event-page.jpg
END:VEVENT
BEGIN:VEVENT
DTSTART;TZID=America/Denver:20250620T153000
DTEND;TZID=America/Denver:20250620T163000
DTSTAMP:20260420T144331
CREATED:20250618T181329Z
LAST-MODIFIED:20250618T181900Z
UID:10000744-1750433400-1750437000@theyard915.com
SUMMARY:Mariachi Excelencia
DESCRIPTION:Mariachi Excelencia Live at The Yard! \nGet ready for an afternoon filled with vibrant music and unforgettable moments! Join us at The Yard patio & beer Garden for a special live performance by Mariachi Excelencia. \nEvent Details:\n???? Date: Friday\, June 20\, 2025\n???? Time: 3:30 PM – 4:30 PM\n???? Location: 14261 MONTANA Ave\, El Paso\, TX 79938 \nBring your friends\, family\, and even your leashed pups to enjoy the festive atmosphere. Our family- and dog-friendly patio will be the perfect place to relax\, sip on your favorite drinks\, and soak in the sounds of authentic mariachi. \nHappy Hour Specials:\nEnjoy drink specials from 4–7 PM—stick around after the show for even more fun! \nWhy You’ll Love It: \n\nSpacious outdoor and indoor seating for up to 600 guests\nWelcoming to families and dogs\nDelicious food and a wide drink selection\nFriendly\, lively atmosphere\n\nDon’t miss out on this musical treat! Mark your calendar and let’s make it a memorable Friday together. \nFollow us for updates:\nFacebook | Instagram
URL:https://theyard915.com/event/mariachi-excelencia/
LOCATION:The Yard Patio Beer Garden\, 14261 Montana Ave\, El Paso TX\, TX\, 79938\, United States
END:VEVENT
BEGIN:VEVENT
DTSTART;TZID=America/Denver:20250620T200000
DTEND;TZID=America/Denver:20250620T235900
DTSTAMP:20260420T144331
CREATED:20240801T191052Z
LAST-MODIFIED:20250702T201205Z
UID:10000106-1750449600-1750463940@theyard915.com
SUMMARY:Family Karaoke Night
DESCRIPTION:What better way to spend time with the family than with a little Family Karaoke. Kids are always welcomed to join. We have weekly drink specials\, food features and more. Make sure to follow us on social media   Facebook
URL:https://theyard915.com/event/family-karaoke-night/2025-06-20/
LOCATION:The Yard Patio Beer Garden\, 14261 Montana Ave\, El Paso TX\, TX\, 79938\, United States
END:VEVENT
BEGIN:VEVENT
DTSTART;TZID=America/Denver:20250627T200000
DTEND;TZID=America/Denver:20250627T235900
DTSTAMP:20260420T144331
CREATED:20240801T191052Z
LAST-MODIFIED:20250702T201205Z
UID:10000107-1751054400-1751068740@theyard915.com
SUMMARY:Family Karaoke Night
DESCRIPTION:What better way to spend time with the family than with a little Family Karaoke. Kids are always welcomed to join. We have weekly drink specials\, food features and more. Make sure to follow us on social media   Facebook
URL:https://theyard915.com/event/family-karaoke-night/2025-06-27/
LOCATION:The Yard Patio Beer Garden\, 14261 Montana Ave\, El Paso TX\, TX\, 79938\, United States
END:VEVENT
BEGIN:VEVENT
DTSTART;TZID=America/Denver:20250703T190000
DTEND;TZID=America/Denver:20250703T230000
DTSTAMP:20260420T144331
CREATED:20250702T193846Z
LAST-MODIFIED:20250702T195558Z
UID:10000745-1751569200-1751583600@theyard915.com
SUMMARY:Pre 4th of July Extravaganza
DESCRIPTION:
URL:https://theyard915.com/event/pre-4th-of-july-extravaganza/
LOCATION:The Yard Patio Beer Garden\, 14261 Montana Ave\, El Paso TX\, TX\, 79938\, United States
END:VEVENT
BEGIN:VEVENT
DTSTART;TZID=America/Denver:20250704T190000
DTEND;TZID=America/Denver:20250705T000000
DTSTAMP:20260420T144331
CREATED:20250702T195205Z
LAST-MODIFIED:20250702T201724Z
UID:10000746-1751655600-1751673600@theyard915.com
SUMMARY:Retro 4th of July
DESCRIPTION:Retro 4th of July at The Yard Patio & Beer Garden\nCelebrate Independence Day with a nostalgic twist at our Retro 4th of July party! Join us on Thursday\, July 4th from 7:00 PM to midnight for an unforgettable evening featuring special guest DJ Joe Dorgan spinning your favorite retro hits. Enjoy a vibrant\, family-friendly atmosphere\, delicious food\, festive drinks\, and plenty of good vibes under the stars. Our pet-friendly patio welcomes leashed dogs\, so bring your whole crew—two- and four-legged alike!\nDon’t miss out on the best 4th of July celebration in El Paso. Mark your calendar and get ready to dance the night away at The Yard!
URL:https://theyard915.com/event/retro-4th-of-july/
LOCATION:The Yard Patio Beer Garden\, 14261 Montana Ave\, El Paso TX\, TX\, 79938\, United States
END:VEVENT
BEGIN:VEVENT
DTSTART;TZID=America/Denver:20250705T200000
DTEND;TZID=America/Denver:20250706T000000
DTSTAMP:20260420T144331
CREATED:20250702T200543Z
LAST-MODIFIED:20250702T201544Z
UID:10000789-1751745600-1751760000@theyard915.com
SUMMARY:Whiskey River Band
DESCRIPTION:Keep the 4th of July Celebration Going at The Yard!\nThe party doesn’t stop after the fireworks! Join us on Friday\, July 4th\, as we keep the celebration rolling with a special live performance by Whiskey River Band from 8:00 PM to midnight. Get ready for a night of “Country that Rocks” as Whiskey River Band brings high-energy country hits and rockin’ vibes to the stage.\nBring your friends\, family\, and pups for another unforgettable evening at The Yard Patio & Beer Garden. Enjoy our welcoming\, family- and dog-friendly atmosphere\, delicious food\, and a wide selection of drinks—including our brand new whiskey and bourbon bar area.\nDon’t miss out on the best post-4th of July party in El Paso! Mark your calendar\, grab your boots\, and get ready to rock the night away with us.
URL:https://theyard915.com/event/whiskey-river-band/
LOCATION:The Yard Patio Beer Garden\, 14261 Montana Ave\, El Paso TX\, TX\, 79938\, United States
END:VEVENT
BEGIN:VEVENT
DTSTART;TZID=America/Denver:20250711T200000
DTEND;TZID=America/Denver:20250711T235900
DTSTAMP:20260420T144331
CREATED:20240801T191052Z
LAST-MODIFIED:20250702T201205Z
UID:10000109-1752264000-1752278340@theyard915.com
SUMMARY:Family Karaoke Night
DESCRIPTION:What better way to spend time with the family than with a little Family Karaoke. Kids are always welcomed to join. We have weekly drink specials\, food features and more. Make sure to follow us on social media   Facebook
URL:https://theyard915.com/event/family-karaoke-night/2025-07-11/
LOCATION:The Yard Patio Beer Garden\, 14261 Montana Ave\, El Paso TX\, TX\, 79938\, United States
END:VEVENT
BEGIN:VEVENT
DTSTART;TZID=America/Denver:20250718T200000
DTEND;TZID=America/Denver:20250718T235900
DTSTAMP:20260420T144331
CREATED:20240801T191052Z
LAST-MODIFIED:20250702T201205Z
UID:10000110-1752868800-1752883140@theyard915.com
SUMMARY:Family Karaoke Night
DESCRIPTION:What better way to spend time with the family than with a little Family Karaoke. Kids are always welcomed to join. We have weekly drink specials\, food features and more. Make sure to follow us on social media   Facebook
URL:https://theyard915.com/event/family-karaoke-night/2025-07-18/
LOCATION:The Yard Patio Beer Garden\, 14261 Montana Ave\, El Paso TX\, TX\, 79938\, United States
END:VEVENT
BEGIN:VEVENT
DTSTART;TZID=America/Denver:20250718T200000
DTEND;TZID=America/Denver:20250719T000000
DTSTAMP:20260420T144331
CREATED:20250715T212647Z
LAST-MODIFIED:20250715T212647Z
UID:10000792-1752868800-1752883200@theyard915.com
SUMMARY:Live Music with Last Call
DESCRIPTION:Live Music Night with Last Call at The Yard! \nJoin us for an electrifying evening as Last Call takes the stage at The Yard Patio & Beer Garden! Enjoy a high-energy mix of R&B\, Hip Hop\, 80’s & 90’s Pop\, Cumbia\, Reggaeton\, Funk\, and Reggae—perfect for music lovers of all kinds. \nEvent Details:\n???? Date: July 18\, 2025\n???? Time: Band starts at 8PM\n???? Location: 14261 MONTANA Ave\, El Paso\, TX 79938 \nWhy You’ll Love It: \n\nFamily-friendly and dog-friendly vibes (leashed pups welcome!)\nDelicious food and daily drink specials\nHappy Hour from 4–7PM before the show\nSpacious patio and a lively\, welcoming atmosphere\n\nWhether you’re coming with family\, friends\, or your furry companion\, this is the perfect way to spend your evening in El Paso. Don’t miss out—Last Call always brings the party! \nReserve your table now or just stop by for a night of great music\, tasty eats\, and unforgettable fun!  \n 
URL:https://theyard915.com/event/live-music-with-last-call/
LOCATION:The Yard Patio Beer Garden\, 14261 Montana Ave\, El Paso TX\, TX\, 79938\, United States
END:VEVENT
BEGIN:VEVENT
DTSTART;TZID=America/Denver:20250719T200000
DTEND;TZID=America/Denver:20250719T200000
DTSTAMP:20260420T144331
CREATED:20250714T205722Z
LAST-MODIFIED:20250714T210013Z
UID:10000790-1752955200-1752955200@theyard915.com
SUMMARY:Anna Maria Rosales & The Unfit Mothers
DESCRIPTION:Rock the Yard: Anna Maria Rosales and the Unfit Mothers Take the Stage! \n\nJoin us at The Yard patio & beer Garden for an electrifying night of live music! On Saturday\, July 19th at 8pm\, Anna Maria Rosales and the Unfit Mothers will bring their unique blend of Americana roots and rock to our outdoor stage.\nEnjoy great food\, refreshing drinks\, and the welcoming atmosphere we’re known for—whether you’re coming with friends\, family\, or your leashed furry companions. Arrive early to take advantage of our daily Happy Hour from 4-7PM before the show gets started.\nDon’t miss out on an unforgettable evening of music and community at The Yard. We can’t wait to see you there!
URL:https://theyard915.com/event/anna-maria-rosales-the-unfit-mothers/
LOCATION:The Yard Patio Beer Garden\, 14261 Montana Ave\, El Paso TX\, TX\, 79938\, United States
END:VEVENT
BEGIN:VEVENT
DTSTART;TZID=America/Denver:20250725T200000
DTEND;TZID=America/Denver:20250725T235900
DTSTAMP:20260420T144331
CREATED:20240801T191052Z
LAST-MODIFIED:20250702T201205Z
UID:10000111-1753473600-1753487940@theyard915.com
SUMMARY:Family Karaoke Night
DESCRIPTION:What better way to spend time with the family than with a little Family Karaoke. Kids are always welcomed to join. We have weekly drink specials\, food features and more. Make sure to follow us on social media   Facebook
URL:https://theyard915.com/event/family-karaoke-night/2025-07-25/
LOCATION:The Yard Patio Beer Garden\, 14261 Montana Ave\, El Paso TX\, TX\, 79938\, United States
END:VEVENT
BEGIN:VEVENT
DTSTART;TZID=America/Denver:20250725T200000
DTEND;TZID=America/Denver:20250726T000000
DTSTAMP:20260420T144331
CREATED:20250716T200331Z
LAST-MODIFIED:20250716T200331Z
UID:10000794-1753473600-1753488000@theyard915.com
SUMMARY:Moonshine Railroad Band
DESCRIPTION:Country\, Blues & Classic Rock Night at The Yard! ????????\nDust off your boots and join us for a toe-tappin’ good time on Friday\, July 25th! We’ve got a fantastic band lined up to play your favorite country\, blues\, and classic rock hits—perfect for a summer night out.\n???? 14261 MONTANA Ave\, El Paso\, TX 79938\n????️ Friday\, July 25\, 2025\n⏰ Moonshine Railroad kicks off at 8PM\n???? Family & leashed dogs welcome\n???? Check out our new whiskey & bourbon bar\n\nEnjoy Happy Hour drink specials from 4–7PM\, delicious food\, and a lively\, friendly atmosphere. Whether you’re two-steppin’ or just relaxing\, bring your friends\, family\, and pups for an unforgettable night!\n???? RSVP\, tag your concert crew\, and let us know you’re coming!\n#LiveMusic #CountryNight #ElPasoEvents #FamilyFriendly #DogFriendly ????????
URL:https://theyard915.com/event/moonshine-railroad-band/
LOCATION:The Yard Patio Beer Garden\, 14261 Montana Ave\, El Paso TX\, TX\, 79938\, United States
END:VEVENT
BEGIN:VEVENT
DTSTART;TZID=America/Denver:20250726T200000
DTEND;TZID=America/Denver:20250727T000000
DTSTAMP:20260420T144331
CREATED:20250716T205452Z
LAST-MODIFIED:20250716T205452Z
UID:10000795-1753560000-1753574400@theyard915.com
SUMMARY:Highway Band
DESCRIPTION:Highway Band: 80’s & More Live at The Yard! \nMark your calendars for an unforgettable night of music and fun! The Yard patio & beer Garden is excited to welcome Highway Band on Saturday\, July 26\, 2025. Starting at 8PM\, get ready to experience all your favorite hits from the 80’s—and more! \nEvent Details:\n???? Date: Saturday\, July 26\, 2025\n⏰ Time: 8:00 PM\n???? Location: 14261 MONTANA Ave\, El Paso\, TX 79938 \nWhy You’ll Love This Event: \n\nLive performance by Highway Band\, playing the best of the 80’s and beyond\nFamily-friendly and pet-friendly environment—leashed dogs are always welcome\nEnjoy delicious food\, drink specials\, and our new whiskey & bourbon bar\nHappy Hour from 4–7PM and Power Hour specials from 5–7PM\n\nBring your friends\, family\, and pups for a night of great music\, dancing\, and good vibes under the stars. Whether you’re a fan of classic 80’s tunes or just looking for a fun night out\, this event is for you! \nWe can’t wait to see you at The Yard for an epic 80’s party with Highway Band! \n\n 
URL:https://theyard915.com/event/highway-band/
LOCATION:The Yard Patio Beer Garden\, 14261 Montana Ave\, El Paso TX\, TX\, 79938\, United States
END:VEVENT
BEGIN:VEVENT
DTSTART;TZID=America/Denver:20250727T153000
DTEND;TZID=America/Denver:20250727T163000
DTSTAMP:20260420T144331
CREATED:20250716T210253Z
LAST-MODIFIED:20250716T210253Z
UID:10000796-1753630200-1753633800@theyard915.com
SUMMARY:Mariachi Excelencia
DESCRIPTION:Live Mariachi Music with Mariachi Excelencia at The Yard! \nJoin us for a vibrant afternoon of live mariachi music! We’re excited to welcome Mariachi Excelencia to The Yard patio & beer Garden on Sunday\, July 27\, 2025. Enjoy the rich sounds of traditional mariachi\, delicious food\, and a welcoming atmosphere perfect for families and friends. \nEvent Details:\n???? Date: Sunday\, July 27\, 2025\n⏰ Time: 3:30 PM – 4:30 PM\n???? Location: 14261 MONTANA Ave\, El Paso\, TX 79938 \nWhy You’ll Love This Event: \n\nLive performance by Mariachi Excelencia\nFamily-friendly and pet-friendly environment—leashed dogs are always welcome\nDelicious food and drink specials\nHappy Hour from 4–7PM and Power Hour specials from 12–2PM & 5–7PM\n\nBring your loved ones and experience the magic of mariachi in our laid-back\, outdoor setting. It’s the perfect way to spend your Sunday afternoon!
URL:https://theyard915.com/event/mariachi-excelencia-2/
LOCATION:The Yard Patio Beer Garden\, 14261 Montana Ave\, El Paso TX\, TX\, 79938\, United States
END:VEVENT
END:VCALENDAR