BEGIN:VCALENDAR
VERSION:2.0
PRODID:-//The Yard Patio Bar Garden - ECPv6.15.20//NONSGML v1.0//EN
CALSCALE:GREGORIAN
METHOD:PUBLISH
X-ORIGINAL-URL:https://theyard915.com
X-WR-CALDESC:Events for The Yard Patio Bar Garden
REFRESH-INTERVAL;VALUE=DURATION:PT1H
X-Robots-Tag:noindex
X-PUBLISHED-TTL:PT1H
BEGIN:VTIMEZONE
TZID:America/Denver
BEGIN:DAYLIGHT
TZOFFSETFROM:-0700
TZOFFSETTO:-0600
TZNAME:MDT
DTSTART:20230312T090000
END:DAYLIGHT
BEGIN:STANDARD
TZOFFSETFROM:-0600
TZOFFSETTO:-0700
TZNAME:MST
DTSTART:20231105T080000
END:STANDARD
BEGIN:DAYLIGHT
TZOFFSETFROM:-0700
TZOFFSETTO:-0600
TZNAME:MDT
DTSTART:20240310T090000
END:DAYLIGHT
BEGIN:STANDARD
TZOFFSETFROM:-0600
TZOFFSETTO:-0700
TZNAME:MST
DTSTART:20241103T080000
END:STANDARD
BEGIN:DAYLIGHT
TZOFFSETFROM:-0700
TZOFFSETTO:-0600
TZNAME:MDT
DTSTART:20250309T090000
END:DAYLIGHT
BEGIN:STANDARD
TZOFFSETFROM:-0600
TZOFFSETTO:-0700
TZNAME:MST
DTSTART:20251102T080000
END:STANDARD
BEGIN:DAYLIGHT
TZOFFSETFROM:-0700
TZOFFSETTO:-0600
TZNAME:MDT
DTSTART:20260308T090000
END:DAYLIGHT
BEGIN:STANDARD
TZOFFSETFROM:-0600
TZOFFSETTO:-0700
TZNAME:MST
DTSTART:20261101T080000
END:STANDARD
END:VTIMEZONE
BEGIN:VEVENT
DTSTART;TZID=America/Denver:20241020T120000
DTEND;TZID=America/Denver:20241020T170000
DTSTAMP:20260420T160607
CREATED:20240909T170549Z
LAST-MODIFIED:20240909T170549Z
UID:10000585-1729425600-1729443600@theyard915.com
SUMMARY:Soldier & Veterans Suicide Awareness Fundraiser and Vendor Market
DESCRIPTION:Live Music\, Raffles and drink specials all for a great cause. Join the Airborne MC for this fundraiser event.
URL:https://theyard915.com/event/soldier-veterans-suicide-awareness-fundraiser-and-vendor-market/
LOCATION:The Yard Patio Beer Garden\, 14261 Montana Ave\, El Paso TX\, TX\, 79938\, United States
END:VEVENT
BEGIN:VEVENT
DTSTART;TZID=America/Denver:20241025T200000
DTEND;TZID=America/Denver:20241025T235900
DTSTAMP:20260420T160607
CREATED:20240801T191052Z
LAST-MODIFIED:20250702T201205Z
UID:10000072-1729886400-1729900740@theyard915.com
SUMMARY:Family Karaoke Night
DESCRIPTION:What better way to spend time with the family than with a little Family Karaoke. Kids are always welcomed to join. We have weekly drink specials\, food features and more. Make sure to follow us on social media   Facebook
URL:https://theyard915.com/event/family-karaoke-night/2024-10-25/
LOCATION:The Yard Patio Beer Garden\, 14261 Montana Ave\, El Paso TX\, TX\, 79938\, United States
END:VEVENT
BEGIN:VEVENT
DTSTART;TZID=America/Denver:20241026T200000
DTEND;TZID=America/Denver:20241026T233000
DTSTAMP:20260420T160607
CREATED:20240911T224605Z
LAST-MODIFIED:20250311T235311Z
UID:10000654-1729972800-1729985400@theyard915.com
SUMMARY:Poker Night in the Whiskey Bar
DESCRIPTION:Play some Texas Hold’em and enjoy some Whiskey. $3 Select Drafts\, $4 Select Whiskeys and $1.50 Sliders. This is a 21+ game held weekly.
URL:https://theyard915.com/event/poker-night-is-the-whiskey-bar/2024-10-26/
LOCATION:The Yard Patio Beer Garden\, 14261 Montana Ave\, El Paso TX\, TX\, 79938\, United States
ATTACH;FMTTYPE=image/jpeg:https://theyard915.com/wp-content/uploads/2024/09/Poker-night-event-page.jpg
END:VEVENT
BEGIN:VEVENT
DTSTART;TZID=America/Denver:20241027T110000
DTEND;TZID=America/Denver:20241027T180000
DTSTAMP:20260420T160607
CREATED:20240909T161634Z
LAST-MODIFIED:20240909T161634Z
UID:10000583-1730026800-1730052000@theyard915.com
SUMMARY:Breast Cancer Bike Run Fundraiser & Vendor Market w/ Live Music
DESCRIPTION:It’s a Bike Event for a Cause. Join us for a vendor market and help us raise money for Breast Cancer Research. Vendors\, Bands\, Raffles and more. Registration fee is $15 and includes lunch. Contact us to be a vendor at (915)841-6379.
URL:https://theyard915.com/event/breast-cancer-bike-run-fundraiser-vendor-market-w-live-music/
LOCATION:The Yard Patio Beer Garden\, 14261 Montana Ave\, El Paso TX\, TX\, 79938\, United States
END:VEVENT
BEGIN:VEVENT
DTSTART;TZID=America/Denver:20241101T200000
DTEND;TZID=America/Denver:20241101T235900
DTSTAMP:20260420T160607
CREATED:20240801T191052Z
LAST-MODIFIED:20250702T201205Z
UID:10000073-1730491200-1730505540@theyard915.com
SUMMARY:Family Karaoke Night
DESCRIPTION:What better way to spend time with the family than with a little Family Karaoke. Kids are always welcomed to join. We have weekly drink specials\, food features and more. Make sure to follow us on social media   Facebook
URL:https://theyard915.com/event/family-karaoke-night/2024-11-01/
LOCATION:The Yard Patio Beer Garden\, 14261 Montana Ave\, El Paso TX\, TX\, 79938\, United States
END:VEVENT
BEGIN:VEVENT
DTSTART;TZID=America/Denver:20241102T200000
DTEND;TZID=America/Denver:20241102T233000
DTSTAMP:20260420T160607
CREATED:20240911T224605Z
LAST-MODIFIED:20250311T235311Z
UID:10000655-1730577600-1730590200@theyard915.com
SUMMARY:Poker Night in the Whiskey Bar
DESCRIPTION:Play some Texas Hold’em and enjoy some Whiskey. $3 Select Drafts\, $4 Select Whiskeys and $1.50 Sliders. This is a 21+ game held weekly.
URL:https://theyard915.com/event/poker-night-is-the-whiskey-bar/2024-11-02/
LOCATION:The Yard Patio Beer Garden\, 14261 Montana Ave\, El Paso TX\, TX\, 79938\, United States
ATTACH;FMTTYPE=image/jpeg:https://theyard915.com/wp-content/uploads/2024/09/Poker-night-event-page.jpg
END:VEVENT
BEGIN:VEVENT
DTSTART;TZID=America/Denver:20241108T200000
DTEND;TZID=America/Denver:20241108T235900
DTSTAMP:20260420T160607
CREATED:20240801T191052Z
LAST-MODIFIED:20250702T201205Z
UID:10000074-1731096000-1731110340@theyard915.com
SUMMARY:Family Karaoke Night
DESCRIPTION:What better way to spend time with the family than with a little Family Karaoke. Kids are always welcomed to join. We have weekly drink specials\, food features and more. Make sure to follow us on social media   Facebook
URL:https://theyard915.com/event/family-karaoke-night/2024-11-08/
LOCATION:The Yard Patio Beer Garden\, 14261 Montana Ave\, El Paso TX\, TX\, 79938\, United States
END:VEVENT
BEGIN:VEVENT
DTSTART;TZID=America/Denver:20241109T200000
DTEND;TZID=America/Denver:20241109T233000
DTSTAMP:20260420T160607
CREATED:20240911T224605Z
LAST-MODIFIED:20250311T235311Z
UID:10000656-1731182400-1731195000@theyard915.com
SUMMARY:Poker Night in the Whiskey Bar
DESCRIPTION:Play some Texas Hold’em and enjoy some Whiskey. $3 Select Drafts\, $4 Select Whiskeys and $1.50 Sliders. This is a 21+ game held weekly.
URL:https://theyard915.com/event/poker-night-is-the-whiskey-bar/2024-11-09/
LOCATION:The Yard Patio Beer Garden\, 14261 Montana Ave\, El Paso TX\, TX\, 79938\, United States
ATTACH;FMTTYPE=image/jpeg:https://theyard915.com/wp-content/uploads/2024/09/Poker-night-event-page.jpg
END:VEVENT
BEGIN:VEVENT
DTSTART;TZID=America/Denver:20241115T200000
DTEND;TZID=America/Denver:20241115T235900
DTSTAMP:20260420T160607
CREATED:20240801T191052Z
LAST-MODIFIED:20250702T201205Z
UID:10000075-1731700800-1731715140@theyard915.com
SUMMARY:Family Karaoke Night
DESCRIPTION:What better way to spend time with the family than with a little Family Karaoke. Kids are always welcomed to join. We have weekly drink specials\, food features and more. Make sure to follow us on social media   Facebook
URL:https://theyard915.com/event/family-karaoke-night/2024-11-15/
LOCATION:The Yard Patio Beer Garden\, 14261 Montana Ave\, El Paso TX\, TX\, 79938\, United States
END:VEVENT
BEGIN:VEVENT
DTSTART;TZID=America/Denver:20241116T200000
DTEND;TZID=America/Denver:20241116T233000
DTSTAMP:20260420T160607
CREATED:20240911T224605Z
LAST-MODIFIED:20250311T235311Z
UID:10000657-1731787200-1731799800@theyard915.com
SUMMARY:Poker Night in the Whiskey Bar
DESCRIPTION:Play some Texas Hold’em and enjoy some Whiskey. $3 Select Drafts\, $4 Select Whiskeys and $1.50 Sliders. This is a 21+ game held weekly.
URL:https://theyard915.com/event/poker-night-is-the-whiskey-bar/2024-11-16/
LOCATION:The Yard Patio Beer Garden\, 14261 Montana Ave\, El Paso TX\, TX\, 79938\, United States
ATTACH;FMTTYPE=image/jpeg:https://theyard915.com/wp-content/uploads/2024/09/Poker-night-event-page.jpg
END:VEVENT
BEGIN:VEVENT
DTSTART;TZID=America/Denver:20241122T200000
DTEND;TZID=America/Denver:20241122T235900
DTSTAMP:20260420T160607
CREATED:20240801T191052Z
LAST-MODIFIED:20250702T201205Z
UID:10000076-1732305600-1732319940@theyard915.com
SUMMARY:Family Karaoke Night
DESCRIPTION:What better way to spend time with the family than with a little Family Karaoke. Kids are always welcomed to join. We have weekly drink specials\, food features and more. Make sure to follow us on social media   Facebook
URL:https://theyard915.com/event/family-karaoke-night/2024-11-22/
LOCATION:The Yard Patio Beer Garden\, 14261 Montana Ave\, El Paso TX\, TX\, 79938\, United States
END:VEVENT
BEGIN:VEVENT
DTSTART;TZID=America/Denver:20241123T200000
DTEND;TZID=America/Denver:20241123T233000
DTSTAMP:20260420T160607
CREATED:20240911T224605Z
LAST-MODIFIED:20250311T235311Z
UID:10000658-1732392000-1732404600@theyard915.com
SUMMARY:Poker Night in the Whiskey Bar
DESCRIPTION:Play some Texas Hold’em and enjoy some Whiskey. $3 Select Drafts\, $4 Select Whiskeys and $1.50 Sliders. This is a 21+ game held weekly.
URL:https://theyard915.com/event/poker-night-is-the-whiskey-bar/2024-11-23/
LOCATION:The Yard Patio Beer Garden\, 14261 Montana Ave\, El Paso TX\, TX\, 79938\, United States
ATTACH;FMTTYPE=image/jpeg:https://theyard915.com/wp-content/uploads/2024/09/Poker-night-event-page.jpg
END:VEVENT
BEGIN:VEVENT
DTSTART;TZID=America/Denver:20241129T200000
DTEND;TZID=America/Denver:20241129T235900
DTSTAMP:20260420T160607
CREATED:20240801T191052Z
LAST-MODIFIED:20250702T201205Z
UID:10000077-1732910400-1732924740@theyard915.com
SUMMARY:Family Karaoke Night
DESCRIPTION:What better way to spend time with the family than with a little Family Karaoke. Kids are always welcomed to join. We have weekly drink specials\, food features and more. Make sure to follow us on social media   Facebook
URL:https://theyard915.com/event/family-karaoke-night/2024-11-29/
LOCATION:The Yard Patio Beer Garden\, 14261 Montana Ave\, El Paso TX\, TX\, 79938\, United States
END:VEVENT
BEGIN:VEVENT
DTSTART;TZID=America/Denver:20241130T200000
DTEND;TZID=America/Denver:20241130T233000
DTSTAMP:20260420T160607
CREATED:20240911T224605Z
LAST-MODIFIED:20250311T235311Z
UID:10000659-1732996800-1733009400@theyard915.com
SUMMARY:Poker Night in the Whiskey Bar
DESCRIPTION:Play some Texas Hold’em and enjoy some Whiskey. $3 Select Drafts\, $4 Select Whiskeys and $1.50 Sliders. This is a 21+ game held weekly.
URL:https://theyard915.com/event/poker-night-is-the-whiskey-bar/2024-11-30/
LOCATION:The Yard Patio Beer Garden\, 14261 Montana Ave\, El Paso TX\, TX\, 79938\, United States
ATTACH;FMTTYPE=image/jpeg:https://theyard915.com/wp-content/uploads/2024/09/Poker-night-event-page.jpg
END:VEVENT
BEGIN:VEVENT
DTSTART;TZID=America/Denver:20241206T200000
DTEND;TZID=America/Denver:20241206T235900
DTSTAMP:20260420T160607
CREATED:20240801T191052Z
LAST-MODIFIED:20250702T201205Z
UID:10000078-1733515200-1733529540@theyard915.com
SUMMARY:Family Karaoke Night
DESCRIPTION:What better way to spend time with the family than with a little Family Karaoke. Kids are always welcomed to join. We have weekly drink specials\, food features and more. Make sure to follow us on social media   Facebook
URL:https://theyard915.com/event/family-karaoke-night/2024-12-06/
LOCATION:The Yard Patio Beer Garden\, 14261 Montana Ave\, El Paso TX\, TX\, 79938\, United States
END:VEVENT
BEGIN:VEVENT
DTSTART;TZID=America/Denver:20241207T200000
DTEND;TZID=America/Denver:20241207T233000
DTSTAMP:20260420T160607
CREATED:20240911T224605Z
LAST-MODIFIED:20250311T235311Z
UID:10000660-1733601600-1733614200@theyard915.com
SUMMARY:Poker Night in the Whiskey Bar
DESCRIPTION:Play some Texas Hold’em and enjoy some Whiskey. $3 Select Drafts\, $4 Select Whiskeys and $1.50 Sliders. This is a 21+ game held weekly.
URL:https://theyard915.com/event/poker-night-is-the-whiskey-bar/2024-12-07/
LOCATION:The Yard Patio Beer Garden\, 14261 Montana Ave\, El Paso TX\, TX\, 79938\, United States
ATTACH;FMTTYPE=image/jpeg:https://theyard915.com/wp-content/uploads/2024/09/Poker-night-event-page.jpg
END:VEVENT
BEGIN:VEVENT
DTSTART;TZID=America/Denver:20241213T200000
DTEND;TZID=America/Denver:20241213T235900
DTSTAMP:20260420T160607
CREATED:20240801T191052Z
LAST-MODIFIED:20250702T201205Z
UID:10000079-1734120000-1734134340@theyard915.com
SUMMARY:Family Karaoke Night
DESCRIPTION:What better way to spend time with the family than with a little Family Karaoke. Kids are always welcomed to join. We have weekly drink specials\, food features and more. Make sure to follow us on social media   Facebook
URL:https://theyard915.com/event/family-karaoke-night/2024-12-13/
LOCATION:The Yard Patio Beer Garden\, 14261 Montana Ave\, El Paso TX\, TX\, 79938\, United States
END:VEVENT
BEGIN:VEVENT
DTSTART;TZID=America/Denver:20241214T200000
DTEND;TZID=America/Denver:20241214T233000
DTSTAMP:20260420T160607
CREATED:20240911T224605Z
LAST-MODIFIED:20250311T235311Z
UID:10000661-1734206400-1734219000@theyard915.com
SUMMARY:Poker Night in the Whiskey Bar
DESCRIPTION:Play some Texas Hold’em and enjoy some Whiskey. $3 Select Drafts\, $4 Select Whiskeys and $1.50 Sliders. This is a 21+ game held weekly.
URL:https://theyard915.com/event/poker-night-is-the-whiskey-bar/2024-12-14/
LOCATION:The Yard Patio Beer Garden\, 14261 Montana Ave\, El Paso TX\, TX\, 79938\, United States
ATTACH;FMTTYPE=image/jpeg:https://theyard915.com/wp-content/uploads/2024/09/Poker-night-event-page.jpg
END:VEVENT
BEGIN:VEVENT
DTSTART;TZID=America/Denver:20241220T200000
DTEND;TZID=America/Denver:20241220T235900
DTSTAMP:20260420T160607
CREATED:20240801T191052Z
LAST-MODIFIED:20250702T201205Z
UID:10000080-1734724800-1734739140@theyard915.com
SUMMARY:Family Karaoke Night
DESCRIPTION:What better way to spend time with the family than with a little Family Karaoke. Kids are always welcomed to join. We have weekly drink specials\, food features and more. Make sure to follow us on social media   Facebook
URL:https://theyard915.com/event/family-karaoke-night/2024-12-20/
LOCATION:The Yard Patio Beer Garden\, 14261 Montana Ave\, El Paso TX\, TX\, 79938\, United States
END:VEVENT
BEGIN:VEVENT
DTSTART;TZID=America/Denver:20241221T200000
DTEND;TZID=America/Denver:20241221T233000
DTSTAMP:20260420T160607
CREATED:20240911T224605Z
LAST-MODIFIED:20250311T235311Z
UID:10000662-1734811200-1734823800@theyard915.com
SUMMARY:Poker Night in the Whiskey Bar
DESCRIPTION:Play some Texas Hold’em and enjoy some Whiskey. $3 Select Drafts\, $4 Select Whiskeys and $1.50 Sliders. This is a 21+ game held weekly.
URL:https://theyard915.com/event/poker-night-is-the-whiskey-bar/2024-12-21/
LOCATION:The Yard Patio Beer Garden\, 14261 Montana Ave\, El Paso TX\, TX\, 79938\, United States
ATTACH;FMTTYPE=image/jpeg:https://theyard915.com/wp-content/uploads/2024/09/Poker-night-event-page.jpg
END:VEVENT
BEGIN:VEVENT
DTSTART;TZID=America/Denver:20241227T200000
DTEND;TZID=America/Denver:20241227T235900
DTSTAMP:20260420T160607
CREATED:20240801T191052Z
LAST-MODIFIED:20250702T201205Z
UID:10000081-1735329600-1735343940@theyard915.com
SUMMARY:Family Karaoke Night
DESCRIPTION:What better way to spend time with the family than with a little Family Karaoke. Kids are always welcomed to join. We have weekly drink specials\, food features and more. Make sure to follow us on social media   Facebook
URL:https://theyard915.com/event/family-karaoke-night/2024-12-27/
LOCATION:The Yard Patio Beer Garden\, 14261 Montana Ave\, El Paso TX\, TX\, 79938\, United States
END:VEVENT
BEGIN:VEVENT
DTSTART;TZID=America/Denver:20241228T200000
DTEND;TZID=America/Denver:20241228T233000
DTSTAMP:20260420T160607
CREATED:20240911T224605Z
LAST-MODIFIED:20250311T235311Z
UID:10000663-1735416000-1735428600@theyard915.com
SUMMARY:Poker Night in the Whiskey Bar
DESCRIPTION:Play some Texas Hold’em and enjoy some Whiskey. $3 Select Drafts\, $4 Select Whiskeys and $1.50 Sliders. This is a 21+ game held weekly.
URL:https://theyard915.com/event/poker-night-is-the-whiskey-bar/2024-12-28/
LOCATION:The Yard Patio Beer Garden\, 14261 Montana Ave\, El Paso TX\, TX\, 79938\, United States
ATTACH;FMTTYPE=image/jpeg:https://theyard915.com/wp-content/uploads/2024/09/Poker-night-event-page.jpg
END:VEVENT
BEGIN:VEVENT
DTSTART;TZID=America/Denver:20250103T200000
DTEND;TZID=America/Denver:20250103T235900
DTSTAMP:20260420T160607
CREATED:20240801T191052Z
LAST-MODIFIED:20250702T201205Z
UID:10000082-1735934400-1735948740@theyard915.com
SUMMARY:Family Karaoke Night
DESCRIPTION:What better way to spend time with the family than with a little Family Karaoke. Kids are always welcomed to join. We have weekly drink specials\, food features and more. Make sure to follow us on social media   Facebook
URL:https://theyard915.com/event/family-karaoke-night/2025-01-03/
LOCATION:The Yard Patio Beer Garden\, 14261 Montana Ave\, El Paso TX\, TX\, 79938\, United States
END:VEVENT
BEGIN:VEVENT
DTSTART;TZID=America/Denver:20250104T200000
DTEND;TZID=America/Denver:20250104T233000
DTSTAMP:20260420T160607
CREATED:20240911T224605Z
LAST-MODIFIED:20250311T235311Z
UID:10000664-1736020800-1736033400@theyard915.com
SUMMARY:Poker Night in the Whiskey Bar
DESCRIPTION:Play some Texas Hold’em and enjoy some Whiskey. $3 Select Drafts\, $4 Select Whiskeys and $1.50 Sliders. This is a 21+ game held weekly.
URL:https://theyard915.com/event/poker-night-is-the-whiskey-bar/2025-01-04/
LOCATION:The Yard Patio Beer Garden\, 14261 Montana Ave\, El Paso TX\, TX\, 79938\, United States
ATTACH;FMTTYPE=image/jpeg:https://theyard915.com/wp-content/uploads/2024/09/Poker-night-event-page.jpg
END:VEVENT
BEGIN:VEVENT
DTSTART;TZID=America/Denver:20250110T200000
DTEND;TZID=America/Denver:20250110T235900
DTSTAMP:20260420T160607
CREATED:20240801T191052Z
LAST-MODIFIED:20250702T201205Z
UID:10000083-1736539200-1736553540@theyard915.com
SUMMARY:Family Karaoke Night
DESCRIPTION:What better way to spend time with the family than with a little Family Karaoke. Kids are always welcomed to join. We have weekly drink specials\, food features and more. Make sure to follow us on social media   Facebook
URL:https://theyard915.com/event/family-karaoke-night/2025-01-10/
LOCATION:The Yard Patio Beer Garden\, 14261 Montana Ave\, El Paso TX\, TX\, 79938\, United States
END:VEVENT
BEGIN:VEVENT
DTSTART;TZID=America/Denver:20250111T200000
DTEND;TZID=America/Denver:20250111T233000
DTSTAMP:20260420T160607
CREATED:20240911T224605Z
LAST-MODIFIED:20250311T235311Z
UID:10000665-1736625600-1736638200@theyard915.com
SUMMARY:Poker Night in the Whiskey Bar
DESCRIPTION:Play some Texas Hold’em and enjoy some Whiskey. $3 Select Drafts\, $4 Select Whiskeys and $1.50 Sliders. This is a 21+ game held weekly.
URL:https://theyard915.com/event/poker-night-is-the-whiskey-bar/2025-01-11/
LOCATION:The Yard Patio Beer Garden\, 14261 Montana Ave\, El Paso TX\, TX\, 79938\, United States
ATTACH;FMTTYPE=image/jpeg:https://theyard915.com/wp-content/uploads/2024/09/Poker-night-event-page.jpg
END:VEVENT
BEGIN:VEVENT
DTSTART;TZID=America/Denver:20250117T200000
DTEND;TZID=America/Denver:20250117T235900
DTSTAMP:20260420T160607
CREATED:20240801T191052Z
LAST-MODIFIED:20250702T201205Z
UID:10000084-1737144000-1737158340@theyard915.com
SUMMARY:Family Karaoke Night
DESCRIPTION:What better way to spend time with the family than with a little Family Karaoke. Kids are always welcomed to join. We have weekly drink specials\, food features and more. Make sure to follow us on social media   Facebook
URL:https://theyard915.com/event/family-karaoke-night/2025-01-17/
LOCATION:The Yard Patio Beer Garden\, 14261 Montana Ave\, El Paso TX\, TX\, 79938\, United States
END:VEVENT
BEGIN:VEVENT
DTSTART;TZID=America/Denver:20250118T200000
DTEND;TZID=America/Denver:20250118T233000
DTSTAMP:20260420T160607
CREATED:20240911T224605Z
LAST-MODIFIED:20250311T235311Z
UID:10000666-1737230400-1737243000@theyard915.com
SUMMARY:Poker Night in the Whiskey Bar
DESCRIPTION:Play some Texas Hold’em and enjoy some Whiskey. $3 Select Drafts\, $4 Select Whiskeys and $1.50 Sliders. This is a 21+ game held weekly.
URL:https://theyard915.com/event/poker-night-is-the-whiskey-bar/2025-01-18/
LOCATION:The Yard Patio Beer Garden\, 14261 Montana Ave\, El Paso TX\, TX\, 79938\, United States
ATTACH;FMTTYPE=image/jpeg:https://theyard915.com/wp-content/uploads/2024/09/Poker-night-event-page.jpg
END:VEVENT
BEGIN:VEVENT
DTSTART;TZID=America/Denver:20250124T200000
DTEND;TZID=America/Denver:20250124T235900
DTSTAMP:20260420T160607
CREATED:20240801T191052Z
LAST-MODIFIED:20250702T201205Z
UID:10000085-1737748800-1737763140@theyard915.com
SUMMARY:Family Karaoke Night
DESCRIPTION:What better way to spend time with the family than with a little Family Karaoke. Kids are always welcomed to join. We have weekly drink specials\, food features and more. Make sure to follow us on social media   Facebook
URL:https://theyard915.com/event/family-karaoke-night/2025-01-24/
LOCATION:The Yard Patio Beer Garden\, 14261 Montana Ave\, El Paso TX\, TX\, 79938\, United States
END:VEVENT
BEGIN:VEVENT
DTSTART;TZID=America/Denver:20250125T200000
DTEND;TZID=America/Denver:20250125T233000
DTSTAMP:20260420T160607
CREATED:20240911T224605Z
LAST-MODIFIED:20250311T235311Z
UID:10000667-1737835200-1737847800@theyard915.com
SUMMARY:Poker Night in the Whiskey Bar
DESCRIPTION:Play some Texas Hold’em and enjoy some Whiskey. $3 Select Drafts\, $4 Select Whiskeys and $1.50 Sliders. This is a 21+ game held weekly.
URL:https://theyard915.com/event/poker-night-is-the-whiskey-bar/2025-01-25/
LOCATION:The Yard Patio Beer Garden\, 14261 Montana Ave\, El Paso TX\, TX\, 79938\, United States
ATTACH;FMTTYPE=image/jpeg:https://theyard915.com/wp-content/uploads/2024/09/Poker-night-event-page.jpg
END:VEVENT
END:VCALENDAR