BEGIN:VCALENDAR
VERSION:2.0
PRODID:-//The Yard Patio Bar Garden - ECPv6.15.20//NONSGML v1.0//EN
CALSCALE:GREGORIAN
METHOD:PUBLISH
X-WR-CALNAME:The Yard Patio Bar Garden
X-ORIGINAL-URL:https://theyard915.com
X-WR-CALDESC:Events for The Yard Patio Bar Garden
REFRESH-INTERVAL;VALUE=DURATION:PT1H
X-Robots-Tag:noindex
X-PUBLISHED-TTL:PT1H
BEGIN:VTIMEZONE
TZID:America/Denver
BEGIN:DAYLIGHT
TZOFFSETFROM:-0700
TZOFFSETTO:-0600
TZNAME:MDT
DTSTART:20270314T090000
END:DAYLIGHT
BEGIN:STANDARD
TZOFFSETFROM:-0600
TZOFFSETTO:-0700
TZNAME:MST
DTSTART:20271107T080000
END:STANDARD
BEGIN:DAYLIGHT
TZOFFSETFROM:-0700
TZOFFSETTO:-0600
TZNAME:MDT
DTSTART:20280312T090000
END:DAYLIGHT
BEGIN:STANDARD
TZOFFSETFROM:-0600
TZOFFSETTO:-0700
TZNAME:MST
DTSTART:20281105T080000
END:STANDARD
BEGIN:DAYLIGHT
TZOFFSETFROM:-0700
TZOFFSETTO:-0600
TZNAME:MDT
DTSTART:20290311T090000
END:DAYLIGHT
BEGIN:STANDARD
TZOFFSETFROM:-0600
TZOFFSETTO:-0700
TZNAME:MST
DTSTART:20291104T080000
END:STANDARD
BEGIN:DAYLIGHT
TZOFFSETFROM:-0700
TZOFFSETTO:-0600
TZNAME:MDT
DTSTART:20300310T090000
END:DAYLIGHT
BEGIN:STANDARD
TZOFFSETFROM:-0600
TZOFFSETTO:-0700
TZNAME:MST
DTSTART:20301103T080000
END:STANDARD
END:VTIMEZONE
BEGIN:VEVENT
DTSTART;TZID=America/Denver:20280811T200000
DTEND;TZID=America/Denver:20280811T235900
DTSTAMP:20260425T045643
CREATED:20260331T160023Z
LAST-MODIFIED:20260331T160023Z
UID:10000270-1849636800-1849651140@theyard915.com
SUMMARY:Family Karaoke Night
DESCRIPTION:What better way to spend time with the family than with a little Family Karaoke. Kids are always welcomed to join. We have weekly drink specials\, food features and more. Make sure to follow us on social media   Facebook
URL:https://theyard915.com/event/family-karaoke-night-3/2028-08-11/
LOCATION:The Yard Patio Beer Garden\, 14261 Montana Ave\, El Paso TX\, TX\, 79938\, United States
ATTACH;FMTTYPE=image/webp:https://theyard915.com/wp-content/uploads/2024/08/Karaoke-Instagram-Post-1.webp
END:VEVENT
BEGIN:VEVENT
DTSTART;TZID=America/Denver:20280818T200000
DTEND;TZID=America/Denver:20280818T235900
DTSTAMP:20260425T045643
CREATED:20260331T160023Z
LAST-MODIFIED:20260331T160023Z
UID:10000271-1850241600-1850255940@theyard915.com
SUMMARY:Family Karaoke Night
DESCRIPTION:What better way to spend time with the family than with a little Family Karaoke. Kids are always welcomed to join. We have weekly drink specials\, food features and more. Make sure to follow us on social media   Facebook
URL:https://theyard915.com/event/family-karaoke-night-3/2028-08-18/
LOCATION:The Yard Patio Beer Garden\, 14261 Montana Ave\, El Paso TX\, TX\, 79938\, United States
ATTACH;FMTTYPE=image/webp:https://theyard915.com/wp-content/uploads/2024/08/Karaoke-Instagram-Post-1.webp
END:VEVENT
BEGIN:VEVENT
DTSTART;TZID=America/Denver:20280825T200000
DTEND;TZID=America/Denver:20280825T235900
DTSTAMP:20260425T045643
CREATED:20260331T160023Z
LAST-MODIFIED:20260331T160023Z
UID:10000272-1850846400-1850860740@theyard915.com
SUMMARY:Family Karaoke Night
DESCRIPTION:What better way to spend time with the family than with a little Family Karaoke. Kids are always welcomed to join. We have weekly drink specials\, food features and more. Make sure to follow us on social media   Facebook
URL:https://theyard915.com/event/family-karaoke-night-3/2028-08-25/
LOCATION:The Yard Patio Beer Garden\, 14261 Montana Ave\, El Paso TX\, TX\, 79938\, United States
ATTACH;FMTTYPE=image/webp:https://theyard915.com/wp-content/uploads/2024/08/Karaoke-Instagram-Post-1.webp
END:VEVENT
BEGIN:VEVENT
DTSTART;TZID=America/Denver:20280901T200000
DTEND;TZID=America/Denver:20280901T235900
DTSTAMP:20260425T045643
CREATED:20260331T160023Z
LAST-MODIFIED:20260331T160023Z
UID:10000273-1851451200-1851465540@theyard915.com
SUMMARY:Family Karaoke Night
DESCRIPTION:What better way to spend time with the family than with a little Family Karaoke. Kids are always welcomed to join. We have weekly drink specials\, food features and more. Make sure to follow us on social media   Facebook
URL:https://theyard915.com/event/family-karaoke-night-3/2028-09-01/
LOCATION:The Yard Patio Beer Garden\, 14261 Montana Ave\, El Paso TX\, TX\, 79938\, United States
ATTACH;FMTTYPE=image/webp:https://theyard915.com/wp-content/uploads/2024/08/Karaoke-Instagram-Post-1.webp
END:VEVENT
BEGIN:VEVENT
DTSTART;TZID=America/Denver:20280908T200000
DTEND;TZID=America/Denver:20280908T235900
DTSTAMP:20260425T045643
CREATED:20260331T160023Z
LAST-MODIFIED:20260331T160023Z
UID:10000274-1852056000-1852070340@theyard915.com
SUMMARY:Family Karaoke Night
DESCRIPTION:What better way to spend time with the family than with a little Family Karaoke. Kids are always welcomed to join. We have weekly drink specials\, food features and more. Make sure to follow us on social media   Facebook
URL:https://theyard915.com/event/family-karaoke-night-3/2028-09-08/
LOCATION:The Yard Patio Beer Garden\, 14261 Montana Ave\, El Paso TX\, TX\, 79938\, United States
ATTACH;FMTTYPE=image/webp:https://theyard915.com/wp-content/uploads/2024/08/Karaoke-Instagram-Post-1.webp
END:VEVENT
BEGIN:VEVENT
DTSTART;TZID=America/Denver:20280915T200000
DTEND;TZID=America/Denver:20280915T235900
DTSTAMP:20260425T045643
CREATED:20260331T160023Z
LAST-MODIFIED:20260331T160023Z
UID:10000275-1852660800-1852675140@theyard915.com
SUMMARY:Family Karaoke Night
DESCRIPTION:What better way to spend time with the family than with a little Family Karaoke. Kids are always welcomed to join. We have weekly drink specials\, food features and more. Make sure to follow us on social media   Facebook
URL:https://theyard915.com/event/family-karaoke-night-3/2028-09-15/
LOCATION:The Yard Patio Beer Garden\, 14261 Montana Ave\, El Paso TX\, TX\, 79938\, United States
ATTACH;FMTTYPE=image/webp:https://theyard915.com/wp-content/uploads/2024/08/Karaoke-Instagram-Post-1.webp
END:VEVENT
BEGIN:VEVENT
DTSTART;TZID=America/Denver:20280922T200000
DTEND;TZID=America/Denver:20280922T235900
DTSTAMP:20260425T045643
CREATED:20260331T160023Z
LAST-MODIFIED:20260331T160023Z
UID:10000276-1853265600-1853279940@theyard915.com
SUMMARY:Family Karaoke Night
DESCRIPTION:What better way to spend time with the family than with a little Family Karaoke. Kids are always welcomed to join. We have weekly drink specials\, food features and more. Make sure to follow us on social media   Facebook
URL:https://theyard915.com/event/family-karaoke-night-3/2028-09-22/
LOCATION:The Yard Patio Beer Garden\, 14261 Montana Ave\, El Paso TX\, TX\, 79938\, United States
ATTACH;FMTTYPE=image/webp:https://theyard915.com/wp-content/uploads/2024/08/Karaoke-Instagram-Post-1.webp
END:VEVENT
BEGIN:VEVENT
DTSTART;TZID=America/Denver:20280929T200000
DTEND;TZID=America/Denver:20280929T235900
DTSTAMP:20260425T045643
CREATED:20260331T160023Z
LAST-MODIFIED:20260331T160023Z
UID:10000277-1853870400-1853884740@theyard915.com
SUMMARY:Family Karaoke Night
DESCRIPTION:What better way to spend time with the family than with a little Family Karaoke. Kids are always welcomed to join. We have weekly drink specials\, food features and more. Make sure to follow us on social media   Facebook
URL:https://theyard915.com/event/family-karaoke-night-3/2028-09-29/
LOCATION:The Yard Patio Beer Garden\, 14261 Montana Ave\, El Paso TX\, TX\, 79938\, United States
ATTACH;FMTTYPE=image/webp:https://theyard915.com/wp-content/uploads/2024/08/Karaoke-Instagram-Post-1.webp
END:VEVENT
BEGIN:VEVENT
DTSTART;TZID=America/Denver:20281006T200000
DTEND;TZID=America/Denver:20281006T235900
DTSTAMP:20260425T045643
CREATED:20260331T160023Z
LAST-MODIFIED:20260331T160023Z
UID:10000278-1854475200-1854489540@theyard915.com
SUMMARY:Family Karaoke Night
DESCRIPTION:What better way to spend time with the family than with a little Family Karaoke. Kids are always welcomed to join. We have weekly drink specials\, food features and more. Make sure to follow us on social media   Facebook
URL:https://theyard915.com/event/family-karaoke-night-3/2028-10-06/
LOCATION:The Yard Patio Beer Garden\, 14261 Montana Ave\, El Paso TX\, TX\, 79938\, United States
ATTACH;FMTTYPE=image/webp:https://theyard915.com/wp-content/uploads/2024/08/Karaoke-Instagram-Post-1.webp
END:VEVENT
BEGIN:VEVENT
DTSTART;TZID=America/Denver:20281013T200000
DTEND;TZID=America/Denver:20281013T235900
DTSTAMP:20260425T045643
CREATED:20260331T160023Z
LAST-MODIFIED:20260331T160023Z
UID:10000279-1855080000-1855094340@theyard915.com
SUMMARY:Family Karaoke Night
DESCRIPTION:What better way to spend time with the family than with a little Family Karaoke. Kids are always welcomed to join. We have weekly drink specials\, food features and more. Make sure to follow us on social media   Facebook
URL:https://theyard915.com/event/family-karaoke-night-3/2028-10-13/
LOCATION:The Yard Patio Beer Garden\, 14261 Montana Ave\, El Paso TX\, TX\, 79938\, United States
ATTACH;FMTTYPE=image/webp:https://theyard915.com/wp-content/uploads/2024/08/Karaoke-Instagram-Post-1.webp
END:VEVENT
BEGIN:VEVENT
DTSTART;TZID=America/Denver:20281020T200000
DTEND;TZID=America/Denver:20281020T235900
DTSTAMP:20260425T045643
CREATED:20260331T160023Z
LAST-MODIFIED:20260331T160023Z
UID:10000280-1855684800-1855699140@theyard915.com
SUMMARY:Family Karaoke Night
DESCRIPTION:What better way to spend time with the family than with a little Family Karaoke. Kids are always welcomed to join. We have weekly drink specials\, food features and more. Make sure to follow us on social media   Facebook
URL:https://theyard915.com/event/family-karaoke-night-3/2028-10-20/
LOCATION:The Yard Patio Beer Garden\, 14261 Montana Ave\, El Paso TX\, TX\, 79938\, United States
ATTACH;FMTTYPE=image/webp:https://theyard915.com/wp-content/uploads/2024/08/Karaoke-Instagram-Post-1.webp
END:VEVENT
BEGIN:VEVENT
DTSTART;TZID=America/Denver:20281027T200000
DTEND;TZID=America/Denver:20281027T235900
DTSTAMP:20260425T045643
CREATED:20260331T160023Z
LAST-MODIFIED:20260331T160023Z
UID:10000281-1856289600-1856303940@theyard915.com
SUMMARY:Family Karaoke Night
DESCRIPTION:What better way to spend time with the family than with a little Family Karaoke. Kids are always welcomed to join. We have weekly drink specials\, food features and more. Make sure to follow us on social media   Facebook
URL:https://theyard915.com/event/family-karaoke-night-3/2028-10-27/
LOCATION:The Yard Patio Beer Garden\, 14261 Montana Ave\, El Paso TX\, TX\, 79938\, United States
ATTACH;FMTTYPE=image/webp:https://theyard915.com/wp-content/uploads/2024/08/Karaoke-Instagram-Post-1.webp
END:VEVENT
BEGIN:VEVENT
DTSTART;TZID=America/Denver:20281103T200000
DTEND;TZID=America/Denver:20281103T235900
DTSTAMP:20260425T045643
CREATED:20260331T160023Z
LAST-MODIFIED:20260331T160023Z
UID:10000282-1856894400-1856908740@theyard915.com
SUMMARY:Family Karaoke Night
DESCRIPTION:What better way to spend time with the family than with a little Family Karaoke. Kids are always welcomed to join. We have weekly drink specials\, food features and more. Make sure to follow us on social media   Facebook
URL:https://theyard915.com/event/family-karaoke-night-3/2028-11-03/
LOCATION:The Yard Patio Beer Garden\, 14261 Montana Ave\, El Paso TX\, TX\, 79938\, United States
ATTACH;FMTTYPE=image/webp:https://theyard915.com/wp-content/uploads/2024/08/Karaoke-Instagram-Post-1.webp
END:VEVENT
BEGIN:VEVENT
DTSTART;TZID=America/Denver:20281110T200000
DTEND;TZID=America/Denver:20281110T235900
DTSTAMP:20260425T045643
CREATED:20260331T160023Z
LAST-MODIFIED:20260331T160023Z
UID:10000283-1857499200-1857513540@theyard915.com
SUMMARY:Family Karaoke Night
DESCRIPTION:What better way to spend time with the family than with a little Family Karaoke. Kids are always welcomed to join. We have weekly drink specials\, food features and more. Make sure to follow us on social media   Facebook
URL:https://theyard915.com/event/family-karaoke-night-3/2028-11-10/
LOCATION:The Yard Patio Beer Garden\, 14261 Montana Ave\, El Paso TX\, TX\, 79938\, United States
ATTACH;FMTTYPE=image/webp:https://theyard915.com/wp-content/uploads/2024/08/Karaoke-Instagram-Post-1.webp
END:VEVENT
BEGIN:VEVENT
DTSTART;TZID=America/Denver:20281117T200000
DTEND;TZID=America/Denver:20281117T235900
DTSTAMP:20260425T045643
CREATED:20260331T160023Z
LAST-MODIFIED:20260331T160023Z
UID:10000284-1858104000-1858118340@theyard915.com
SUMMARY:Family Karaoke Night
DESCRIPTION:What better way to spend time with the family than with a little Family Karaoke. Kids are always welcomed to join. We have weekly drink specials\, food features and more. Make sure to follow us on social media   Facebook
URL:https://theyard915.com/event/family-karaoke-night-3/2028-11-17/
LOCATION:The Yard Patio Beer Garden\, 14261 Montana Ave\, El Paso TX\, TX\, 79938\, United States
ATTACH;FMTTYPE=image/webp:https://theyard915.com/wp-content/uploads/2024/08/Karaoke-Instagram-Post-1.webp
END:VEVENT
BEGIN:VEVENT
DTSTART;TZID=America/Denver:20281124T200000
DTEND;TZID=America/Denver:20281124T235900
DTSTAMP:20260425T045643
CREATED:20260331T160023Z
LAST-MODIFIED:20260331T160023Z
UID:10000285-1858708800-1858723140@theyard915.com
SUMMARY:Family Karaoke Night
DESCRIPTION:What better way to spend time with the family than with a little Family Karaoke. Kids are always welcomed to join. We have weekly drink specials\, food features and more. Make sure to follow us on social media   Facebook
URL:https://theyard915.com/event/family-karaoke-night-3/2028-11-24/
LOCATION:The Yard Patio Beer Garden\, 14261 Montana Ave\, El Paso TX\, TX\, 79938\, United States
ATTACH;FMTTYPE=image/webp:https://theyard915.com/wp-content/uploads/2024/08/Karaoke-Instagram-Post-1.webp
END:VEVENT
BEGIN:VEVENT
DTSTART;TZID=America/Denver:20281201T200000
DTEND;TZID=America/Denver:20281201T235900
DTSTAMP:20260425T045643
CREATED:20260331T160023Z
LAST-MODIFIED:20260331T160023Z
UID:10000286-1859313600-1859327940@theyard915.com
SUMMARY:Family Karaoke Night
DESCRIPTION:What better way to spend time with the family than with a little Family Karaoke. Kids are always welcomed to join. We have weekly drink specials\, food features and more. Make sure to follow us on social media   Facebook
URL:https://theyard915.com/event/family-karaoke-night-3/2028-12-01/
LOCATION:The Yard Patio Beer Garden\, 14261 Montana Ave\, El Paso TX\, TX\, 79938\, United States
ATTACH;FMTTYPE=image/webp:https://theyard915.com/wp-content/uploads/2024/08/Karaoke-Instagram-Post-1.webp
END:VEVENT
BEGIN:VEVENT
DTSTART;TZID=America/Denver:20281208T200000
DTEND;TZID=America/Denver:20281208T235900
DTSTAMP:20260425T045643
CREATED:20260331T160023Z
LAST-MODIFIED:20260331T160023Z
UID:10000287-1859918400-1859932740@theyard915.com
SUMMARY:Family Karaoke Night
DESCRIPTION:What better way to spend time with the family than with a little Family Karaoke. Kids are always welcomed to join. We have weekly drink specials\, food features and more. Make sure to follow us on social media   Facebook
URL:https://theyard915.com/event/family-karaoke-night-3/2028-12-08/
LOCATION:The Yard Patio Beer Garden\, 14261 Montana Ave\, El Paso TX\, TX\, 79938\, United States
ATTACH;FMTTYPE=image/webp:https://theyard915.com/wp-content/uploads/2024/08/Karaoke-Instagram-Post-1.webp
END:VEVENT
BEGIN:VEVENT
DTSTART;TZID=America/Denver:20281215T200000
DTEND;TZID=America/Denver:20281215T235900
DTSTAMP:20260425T045643
CREATED:20260331T160023Z
LAST-MODIFIED:20260331T160023Z
UID:10000288-1860523200-1860537540@theyard915.com
SUMMARY:Family Karaoke Night
DESCRIPTION:What better way to spend time with the family than with a little Family Karaoke. Kids are always welcomed to join. We have weekly drink specials\, food features and more. Make sure to follow us on social media   Facebook
URL:https://theyard915.com/event/family-karaoke-night-3/2028-12-15/
LOCATION:The Yard Patio Beer Garden\, 14261 Montana Ave\, El Paso TX\, TX\, 79938\, United States
ATTACH;FMTTYPE=image/webp:https://theyard915.com/wp-content/uploads/2024/08/Karaoke-Instagram-Post-1.webp
END:VEVENT
BEGIN:VEVENT
DTSTART;TZID=America/Denver:20281222T200000
DTEND;TZID=America/Denver:20281222T235900
DTSTAMP:20260425T045643
CREATED:20260331T160023Z
LAST-MODIFIED:20260331T160023Z
UID:10000289-1861128000-1861142340@theyard915.com
SUMMARY:Family Karaoke Night
DESCRIPTION:What better way to spend time with the family than with a little Family Karaoke. Kids are always welcomed to join. We have weekly drink specials\, food features and more. Make sure to follow us on social media   Facebook
URL:https://theyard915.com/event/family-karaoke-night-3/2028-12-22/
LOCATION:The Yard Patio Beer Garden\, 14261 Montana Ave\, El Paso TX\, TX\, 79938\, United States
ATTACH;FMTTYPE=image/webp:https://theyard915.com/wp-content/uploads/2024/08/Karaoke-Instagram-Post-1.webp
END:VEVENT
BEGIN:VEVENT
DTSTART;TZID=America/Denver:20281229T200000
DTEND;TZID=America/Denver:20281229T235900
DTSTAMP:20260425T045643
CREATED:20260331T160023Z
LAST-MODIFIED:20260331T160023Z
UID:10000290-1861732800-1861747140@theyard915.com
SUMMARY:Family Karaoke Night
DESCRIPTION:What better way to spend time with the family than with a little Family Karaoke. Kids are always welcomed to join. We have weekly drink specials\, food features and more. Make sure to follow us on social media   Facebook
URL:https://theyard915.com/event/family-karaoke-night-3/2028-12-29/
LOCATION:The Yard Patio Beer Garden\, 14261 Montana Ave\, El Paso TX\, TX\, 79938\, United States
ATTACH;FMTTYPE=image/webp:https://theyard915.com/wp-content/uploads/2024/08/Karaoke-Instagram-Post-1.webp
END:VEVENT
BEGIN:VEVENT
DTSTART;TZID=America/Denver:20290105T200000
DTEND;TZID=America/Denver:20290105T235900
DTSTAMP:20260425T045643
CREATED:20260331T160023Z
LAST-MODIFIED:20260331T160023Z
UID:10000291-1862337600-1862351940@theyard915.com
SUMMARY:Family Karaoke Night
DESCRIPTION:What better way to spend time with the family than with a little Family Karaoke. Kids are always welcomed to join. We have weekly drink specials\, food features and more. Make sure to follow us on social media   Facebook
URL:https://theyard915.com/event/family-karaoke-night-3/2029-01-05/
LOCATION:The Yard Patio Beer Garden\, 14261 Montana Ave\, El Paso TX\, TX\, 79938\, United States
ATTACH;FMTTYPE=image/webp:https://theyard915.com/wp-content/uploads/2024/08/Karaoke-Instagram-Post-1.webp
END:VEVENT
BEGIN:VEVENT
DTSTART;TZID=America/Denver:20290112T200000
DTEND;TZID=America/Denver:20290112T235900
DTSTAMP:20260425T045643
CREATED:20260331T160023Z
LAST-MODIFIED:20260331T160023Z
UID:10000292-1862942400-1862956740@theyard915.com
SUMMARY:Family Karaoke Night
DESCRIPTION:What better way to spend time with the family than with a little Family Karaoke. Kids are always welcomed to join. We have weekly drink specials\, food features and more. Make sure to follow us on social media   Facebook
URL:https://theyard915.com/event/family-karaoke-night-3/2029-01-12/
LOCATION:The Yard Patio Beer Garden\, 14261 Montana Ave\, El Paso TX\, TX\, 79938\, United States
ATTACH;FMTTYPE=image/webp:https://theyard915.com/wp-content/uploads/2024/08/Karaoke-Instagram-Post-1.webp
END:VEVENT
BEGIN:VEVENT
DTSTART;TZID=America/Denver:20290119T200000
DTEND;TZID=America/Denver:20290119T235900
DTSTAMP:20260425T045643
CREATED:20260331T160023Z
LAST-MODIFIED:20260331T160023Z
UID:10000293-1863547200-1863561540@theyard915.com
SUMMARY:Family Karaoke Night
DESCRIPTION:What better way to spend time with the family than with a little Family Karaoke. Kids are always welcomed to join. We have weekly drink specials\, food features and more. Make sure to follow us on social media   Facebook
URL:https://theyard915.com/event/family-karaoke-night-3/2029-01-19/
LOCATION:The Yard Patio Beer Garden\, 14261 Montana Ave\, El Paso TX\, TX\, 79938\, United States
ATTACH;FMTTYPE=image/webp:https://theyard915.com/wp-content/uploads/2024/08/Karaoke-Instagram-Post-1.webp
END:VEVENT
BEGIN:VEVENT
DTSTART;TZID=America/Denver:20290126T200000
DTEND;TZID=America/Denver:20290126T235900
DTSTAMP:20260425T045643
CREATED:20260331T160023Z
LAST-MODIFIED:20260331T160023Z
UID:10000294-1864152000-1864166340@theyard915.com
SUMMARY:Family Karaoke Night
DESCRIPTION:What better way to spend time with the family than with a little Family Karaoke. Kids are always welcomed to join. We have weekly drink specials\, food features and more. Make sure to follow us on social media   Facebook
URL:https://theyard915.com/event/family-karaoke-night-3/2029-01-26/
LOCATION:The Yard Patio Beer Garden\, 14261 Montana Ave\, El Paso TX\, TX\, 79938\, United States
ATTACH;FMTTYPE=image/webp:https://theyard915.com/wp-content/uploads/2024/08/Karaoke-Instagram-Post-1.webp
END:VEVENT
BEGIN:VEVENT
DTSTART;TZID=America/Denver:20290202T200000
DTEND;TZID=America/Denver:20290202T235900
DTSTAMP:20260425T045643
CREATED:20260331T160023Z
LAST-MODIFIED:20260331T160023Z
UID:10000295-1864756800-1864771140@theyard915.com
SUMMARY:Family Karaoke Night
DESCRIPTION:What better way to spend time with the family than with a little Family Karaoke. Kids are always welcomed to join. We have weekly drink specials\, food features and more. Make sure to follow us on social media   Facebook
URL:https://theyard915.com/event/family-karaoke-night-3/2029-02-02/
LOCATION:The Yard Patio Beer Garden\, 14261 Montana Ave\, El Paso TX\, TX\, 79938\, United States
ATTACH;FMTTYPE=image/webp:https://theyard915.com/wp-content/uploads/2024/08/Karaoke-Instagram-Post-1.webp
END:VEVENT
BEGIN:VEVENT
DTSTART;TZID=America/Denver:20290209T200000
DTEND;TZID=America/Denver:20290209T235900
DTSTAMP:20260425T045643
CREATED:20260331T160023Z
LAST-MODIFIED:20260331T160023Z
UID:10000296-1865361600-1865375940@theyard915.com
SUMMARY:Family Karaoke Night
DESCRIPTION:What better way to spend time with the family than with a little Family Karaoke. Kids are always welcomed to join. We have weekly drink specials\, food features and more. Make sure to follow us on social media   Facebook
URL:https://theyard915.com/event/family-karaoke-night-3/2029-02-09/
LOCATION:The Yard Patio Beer Garden\, 14261 Montana Ave\, El Paso TX\, TX\, 79938\, United States
ATTACH;FMTTYPE=image/webp:https://theyard915.com/wp-content/uploads/2024/08/Karaoke-Instagram-Post-1.webp
END:VEVENT
BEGIN:VEVENT
DTSTART;TZID=America/Denver:20290216T200000
DTEND;TZID=America/Denver:20290216T235900
DTSTAMP:20260425T045643
CREATED:20260331T160023Z
LAST-MODIFIED:20260331T160023Z
UID:10000297-1865966400-1865980740@theyard915.com
SUMMARY:Family Karaoke Night
DESCRIPTION:What better way to spend time with the family than with a little Family Karaoke. Kids are always welcomed to join. We have weekly drink specials\, food features and more. Make sure to follow us on social media   Facebook
URL:https://theyard915.com/event/family-karaoke-night-3/2029-02-16/
LOCATION:The Yard Patio Beer Garden\, 14261 Montana Ave\, El Paso TX\, TX\, 79938\, United States
ATTACH;FMTTYPE=image/webp:https://theyard915.com/wp-content/uploads/2024/08/Karaoke-Instagram-Post-1.webp
END:VEVENT
BEGIN:VEVENT
DTSTART;TZID=America/Denver:20290223T200000
DTEND;TZID=America/Denver:20290223T235900
DTSTAMP:20260425T045643
CREATED:20260331T160023Z
LAST-MODIFIED:20260331T160023Z
UID:10000298-1866571200-1866585540@theyard915.com
SUMMARY:Family Karaoke Night
DESCRIPTION:What better way to spend time with the family than with a little Family Karaoke. Kids are always welcomed to join. We have weekly drink specials\, food features and more. Make sure to follow us on social media   Facebook
URL:https://theyard915.com/event/family-karaoke-night-3/2029-02-23/
LOCATION:The Yard Patio Beer Garden\, 14261 Montana Ave\, El Paso TX\, TX\, 79938\, United States
ATTACH;FMTTYPE=image/webp:https://theyard915.com/wp-content/uploads/2024/08/Karaoke-Instagram-Post-1.webp
END:VEVENT
BEGIN:VEVENT
DTSTART;TZID=America/Denver:20290302T200000
DTEND;TZID=America/Denver:20290302T235900
DTSTAMP:20260425T045643
CREATED:20260331T160023Z
LAST-MODIFIED:20260331T160023Z
UID:10000299-1867176000-1867190340@theyard915.com
SUMMARY:Family Karaoke Night
DESCRIPTION:What better way to spend time with the family than with a little Family Karaoke. Kids are always welcomed to join. We have weekly drink specials\, food features and more. Make sure to follow us on social media   Facebook
URL:https://theyard915.com/event/family-karaoke-night-3/2029-03-02/
LOCATION:The Yard Patio Beer Garden\, 14261 Montana Ave\, El Paso TX\, TX\, 79938\, United States
ATTACH;FMTTYPE=image/webp:https://theyard915.com/wp-content/uploads/2024/08/Karaoke-Instagram-Post-1.webp
END:VEVENT
END:VCALENDAR