BEGIN:VCALENDAR
VERSION:2.0
PRODID:-//The Yard Patio Bar Garden - ECPv6.15.20//NONSGML v1.0//EN
CALSCALE:GREGORIAN
METHOD:PUBLISH
X-ORIGINAL-URL:https://theyard915.com
X-WR-CALDESC:Events for The Yard Patio Bar Garden
REFRESH-INTERVAL;VALUE=DURATION:PT1H
X-Robots-Tag:noindex
X-PUBLISHED-TTL:PT1H
BEGIN:VTIMEZONE
TZID:America/Denver
BEGIN:DAYLIGHT
TZOFFSETFROM:-0700
TZOFFSETTO:-0600
TZNAME:MDT
DTSTART:20250309T090000
END:DAYLIGHT
BEGIN:STANDARD
TZOFFSETFROM:-0600
TZOFFSETTO:-0700
TZNAME:MST
DTSTART:20251102T080000
END:STANDARD
BEGIN:DAYLIGHT
TZOFFSETFROM:-0700
TZOFFSETTO:-0600
TZNAME:MDT
DTSTART:20260308T090000
END:DAYLIGHT
BEGIN:STANDARD
TZOFFSETFROM:-0600
TZOFFSETTO:-0700
TZNAME:MST
DTSTART:20261101T080000
END:STANDARD
BEGIN:DAYLIGHT
TZOFFSETFROM:-0700
TZOFFSETTO:-0600
TZNAME:MDT
DTSTART:20270314T090000
END:DAYLIGHT
BEGIN:STANDARD
TZOFFSETFROM:-0600
TZOFFSETTO:-0700
TZNAME:MST
DTSTART:20271107T080000
END:STANDARD
END:VTIMEZONE
BEGIN:VEVENT
DTSTART;TZID=America/Denver:20260312T180000
DTEND;TZID=America/Denver:20260312T220000
DTSTAMP:20260422T050936
CREATED:20260224T202342Z
LAST-MODIFIED:20260224T202343Z
UID:10000943-1773338400-1773352800@theyard915.com
SUMMARY:Fundraiser: Montwood HS Cheer
DESCRIPTION:???? CHEER ON THE RAMS! ????\nBring your family and pups to support Montwood High School Cheer! We’re hosting an epic fundraiser night where 20% of ALL food sales go straight to the team. ????????\nTHURSDAY\, MARCH 12TH | 6:00-10PM ???? The Yard Patio & Beer Garden 14261 Montana Ave\, El Paso\, TX 79938\nEnjoy our delicious mesquite-smoked favorites\, cold drinks\, and good vibes while supporting local student athletes. It’s a win-win! ????✨\n 
URL:https://theyard915.com/event/fundraiser-montwood-hs-cheer/
LOCATION:The Yard Patio Beer Garden\, 14261 Montana Ave\, El Paso TX\, TX\, 79938\, United States
CATEGORIES:Family Events
ATTACH;FMTTYPE=image/png:https://theyard915.com/wp-content/uploads/2026/02/MHS-Cheer-Fundraiser-Facebook-Banner.png
END:VEVENT
END:VCALENDAR